BEGIN:VCALENDAR
VERSION:2.0
PRODID:-//Modesto Chamber of Commerce - ECPv6.15.20//NONSGML v1.0//EN
CALSCALE:GREGORIAN
METHOD:PUBLISH
X-WR-CALNAME:Modesto Chamber of Commerce
X-ORIGINAL-URL:https://www.modchamber.org
X-WR-CALDESC:Events for Modesto Chamber of Commerce
REFRESH-INTERVAL;VALUE=DURATION:PT1H
X-Robots-Tag:noindex
X-PUBLISHED-TTL:PT1H
BEGIN:VTIMEZONE
TZID:America/Los_Angeles
BEGIN:DAYLIGHT
TZOFFSETFROM:-0800
TZOFFSETTO:-0700
TZNAME:PDT
DTSTART:20230312T100000
END:DAYLIGHT
BEGIN:STANDARD
TZOFFSETFROM:-0700
TZOFFSETTO:-0800
TZNAME:PST
DTSTART:20231105T090000
END:STANDARD
BEGIN:DAYLIGHT
TZOFFSETFROM:-0800
TZOFFSETTO:-0700
TZNAME:PDT
DTSTART:20240310T100000
END:DAYLIGHT
BEGIN:STANDARD
TZOFFSETFROM:-0700
TZOFFSETTO:-0800
TZNAME:PST
DTSTART:20241103T090000
END:STANDARD
BEGIN:DAYLIGHT
TZOFFSETFROM:-0800
TZOFFSETTO:-0700
TZNAME:PDT
DTSTART:20250309T100000
END:DAYLIGHT
BEGIN:STANDARD
TZOFFSETFROM:-0700
TZOFFSETTO:-0800
TZNAME:PST
DTSTART:20251102T090000
END:STANDARD
END:VTIMEZONE
BEGIN:VEVENT
DTSTART;TZID=America/Los_Angeles:20240501T153000
DTEND;TZID=America/Los_Angeles:20240501T160000
DTSTAMP:20260421T083551
CREATED:20240426T213406Z
LAST-MODIFIED:20240426T213406Z
UID:10000868-1714577400-1714579200@www.modchamber.org
SUMMARY:Ribbon Cutting - A Matter of Taste
DESCRIPTION:Hello Chamber friends and community partners\, \n\nPlease join us for a ribbon cutting ceremony in honor of A Matter of Taste on Wednesday\, May 1st\, at 3:30 PM\, in celebration of their services in Modesto. \n\nThis ceremony will be held at 111 E Main St\, Ripon\, CA 95366 \n\nThis event is open to the public so please feel free to invite friends\, family\, and colleagues! We invite all attendees to stick around and network with staffers and other attendees after the ceremony. \n\nWe hope to see you there!
URL:https://www.modchamber.org/event/ribbon-cutting-a-matter-of-taste/
LOCATION:A Matter of Tatse\, 111 E Main St.\, Ripon\, CA\, 95366\, United States
CATEGORIES:Relationship Event
ORGANIZER;CN="Liz Rocha":MAILTO:lrochagomez@modchamber.org
GEO:37.7395426;-121.1235797
X-APPLE-STRUCTURED-LOCATION;VALUE=URI;X-ADDRESS=A Matter of Tatse 111 E Main St. Ripon CA 95366 United States;X-APPLE-RADIUS=500;X-TITLE=111 E Main St.:geo:-121.1235797,37.7395426
END:VEVENT
END:VCALENDAR