BEGIN:VCALENDAR
VERSION:2.0
PRODID:-//Modesto Chamber of Commerce - ECPv6.15.20//NONSGML v1.0//EN
CALSCALE:GREGORIAN
METHOD:PUBLISH
X-ORIGINAL-URL:https://www.modchamber.org
X-WR-CALDESC:Events for Modesto Chamber of Commerce
REFRESH-INTERVAL;VALUE=DURATION:PT1H
X-Robots-Tag:noindex
X-PUBLISHED-TTL:PT1H
BEGIN:VTIMEZONE
TZID:America/Los_Angeles
BEGIN:DAYLIGHT
TZOFFSETFROM:-0800
TZOFFSETTO:-0700
TZNAME:PDT
DTSTART:20220313T100000
END:DAYLIGHT
BEGIN:STANDARD
TZOFFSETFROM:-0700
TZOFFSETTO:-0800
TZNAME:PST
DTSTART:20221106T090000
END:STANDARD
BEGIN:DAYLIGHT
TZOFFSETFROM:-0800
TZOFFSETTO:-0700
TZNAME:PDT
DTSTART:20230312T100000
END:DAYLIGHT
BEGIN:STANDARD
TZOFFSETFROM:-0700
TZOFFSETTO:-0800
TZNAME:PST
DTSTART:20231105T090000
END:STANDARD
BEGIN:DAYLIGHT
TZOFFSETFROM:-0800
TZOFFSETTO:-0700
TZNAME:PDT
DTSTART:20240310T100000
END:DAYLIGHT
BEGIN:STANDARD
TZOFFSETFROM:-0700
TZOFFSETTO:-0800
TZNAME:PST
DTSTART:20241103T090000
END:STANDARD
END:VTIMEZONE
BEGIN:VEVENT
DTSTART;TZID=America/Los_Angeles:20231109T103000
DTEND;TZID=America/Los_Angeles:20231109T230000
DTSTAMP:20260421T035840
CREATED:20231031T200601Z
LAST-MODIFIED:20231031T200601Z
UID:10000800-1699525800-1699570800@www.modchamber.org
SUMMARY:Ribbon Cutting Ceremony - Make Studio
DESCRIPTION:Hello Chamber friends and community partners\, \n\nPlease join us for a Ribbon Cutting Ceremony in honor of our new member Make Studio on Thursday November 9th\, at 10:00 AM\, in celebration of their services in Modesto. \n\nThis ceremony will be held at 318 Needham St\, Modesto\, CA 95354 \n\nThis event is open to the public so please feel free to invite friends\, family\, and colleagues! We invite all attendees to stick around and network with staffers and other attendees after the ceremony. \n  \nWe hope to see you there!
URL:https://www.modchamber.org/event/ribbon-cutting-ceremony-make-studio/
LOCATION:318 Needham St\, Modesto\, CA 95354\, 318 Needham Street\, Modesto\, CA\, 95354
CATEGORIES:Relationship Event
GEO:37.6455837;-120.9968685
X-APPLE-STRUCTURED-LOCATION;VALUE=URI;X-ADDRESS=318 Needham St Modesto CA 95354 318 Needham Street Modesto CA 95354;X-APPLE-RADIUS=500;X-TITLE=318 Needham Street:geo:-120.9968685,37.6455837
END:VEVENT
END:VCALENDAR