BEGIN:VCALENDAR
VERSION:2.0
PRODID:-//Modesto Chamber of Commerce - ECPv6.15.20//NONSGML v1.0//EN
CALSCALE:GREGORIAN
METHOD:PUBLISH
X-WR-CALNAME:Modesto Chamber of Commerce
X-ORIGINAL-URL:https://www.modchamber.org
X-WR-CALDESC:Events for Modesto Chamber of Commerce
REFRESH-INTERVAL;VALUE=DURATION:PT1H
X-Robots-Tag:noindex
X-PUBLISHED-TTL:PT1H
BEGIN:VTIMEZONE
TZID:America/Los_Angeles
BEGIN:DAYLIGHT
TZOFFSETFROM:-0800
TZOFFSETTO:-0700
TZNAME:PDT
DTSTART:20250309T100000
END:DAYLIGHT
BEGIN:STANDARD
TZOFFSETFROM:-0700
TZOFFSETTO:-0800
TZNAME:PST
DTSTART:20251102T090000
END:STANDARD
BEGIN:DAYLIGHT
TZOFFSETFROM:-0800
TZOFFSETTO:-0700
TZNAME:PDT
DTSTART:20260308T100000
END:DAYLIGHT
BEGIN:STANDARD
TZOFFSETFROM:-0700
TZOFFSETTO:-0800
TZNAME:PST
DTSTART:20261101T090000
END:STANDARD
BEGIN:DAYLIGHT
TZOFFSETFROM:-0800
TZOFFSETTO:-0700
TZNAME:PDT
DTSTART:20270314T100000
END:DAYLIGHT
BEGIN:STANDARD
TZOFFSETFROM:-0700
TZOFFSETTO:-0800
TZNAME:PST
DTSTART:20271107T090000
END:STANDARD
END:VTIMEZONE
BEGIN:VEVENT
DTSTART;TZID=America/Los_Angeles:20260602T110000
DTEND;TZID=America/Los_Angeles:20260602T120000
DTSTAMP:20260421T035309
CREATED:20230601T220240Z
LAST-MODIFIED:20230606T225259Z
UID:10000556-1780398000-1780401600@www.modchamber.org
SUMMARY:Modesto Chamber of Commerce Executive Committee Meeting
DESCRIPTION:
URL:https://www.modchamber.org/event/modesto-chamber-of-commerce-executive-committee-meeting/2026-06-02/
ATTACH;FMTTYPE=image/jpeg:https://www.modchamber.org/wp-content/uploads/2022/04/ModestoChamber_logo100dpi.jpg
END:VEVENT
BEGIN:VEVENT
DTSTART;TZID=America/Los_Angeles:20260609T153000
DTEND;TZID=America/Los_Angeles:20260609T170000
DTSTAMP:20260421T035309
CREATED:20230601T220010Z
LAST-MODIFIED:20230606T225600Z
UID:10000496-1781019000-1781024400@www.modchamber.org
SUMMARY:Modesto Chamber of Commerce Board Meeting
DESCRIPTION:  \n 
URL:https://www.modchamber.org/event/modesto-chamber-of-commerce-board-meeting/2026-06-09/
ATTACH;FMTTYPE=image/jpeg:https://www.modchamber.org/wp-content/uploads/2020/02/ModestoChamber_logo100dpi.jpg
END:VEVENT
BEGIN:VEVENT
DTSTART;TZID=America/Los_Angeles:20260618T160000
DTEND;TZID=America/Los_Angeles:20260618T170000
DTSTAMP:20260421T035309
CREATED:20230605T184227Z
LAST-MODIFIED:20230606T225651Z
UID:10000676-1781798400-1781802000@www.modchamber.org
SUMMARY:Leadership Modesto Steering Committee Meeting
DESCRIPTION:
URL:https://www.modchamber.org/event/leadership-modesto-steering-committee-meeting/2026-06-18/
ATTACH;FMTTYPE=image/jpeg:https://www.modchamber.org/wp-content/uploads/2018/01/LEadership-Modesto.jpg
END:VEVENT
BEGIN:VEVENT
DTSTART;TZID=America/Los_Angeles:20260619T113000
DTEND;TZID=America/Los_Angeles:20260619T130000
DTSTAMP:20260421T035309
CREATED:20250523T204324Z
LAST-MODIFIED:20250523T204324Z
UID:10001009-1781868600-1781874000@www.modchamber.org
SUMMARY:Government Relations Council Meeting
DESCRIPTION:Government Relations Council\nEvery 3rd Friday of the month(Excluding holidays)\nContact sshaw@modchamber.org for details on upcoming meetings
URL:https://www.modchamber.org/event/7561-3/2026-06-19/
CATEGORIES:Advocacy Event
ATTACH;FMTTYPE=image/png:https://www.modchamber.org/wp-content/uploads/2025/01/GRC-LOGO-final.png
END:VEVENT
BEGIN:VEVENT
DTSTART;TZID=America/Los_Angeles:20260630T160000
DTEND;TZID=America/Los_Angeles:20260630T170000
DTSTAMP:20260421T035309
CREATED:20230829T212116Z
LAST-MODIFIED:20230829T212135Z
UID:10000616-1782835200-1782838800@www.modchamber.org
SUMMARY:Modesto Chamber of Commerce Finance Committee
DESCRIPTION:These are CLOSED meetings held monthly.
URL:https://www.modchamber.org/event/modesto-chamber-of-commerce-finance-committee-2/2026-06-30/
ATTACH;FMTTYPE=image/jpeg:https://www.modchamber.org/wp-content/uploads/2022/04/ModestoChamber_logo100dpi.jpg
END:VEVENT
END:VCALENDAR