BEGIN:VCALENDAR
VERSION:2.0
PRODID:-//Modesto Chamber of Commerce - ECPv6.15.20//NONSGML v1.0//EN
CALSCALE:GREGORIAN
METHOD:PUBLISH
X-ORIGINAL-URL:https://www.modchamber.org
X-WR-CALDESC:Events for Modesto Chamber of Commerce
REFRESH-INTERVAL;VALUE=DURATION:PT1H
X-Robots-Tag:noindex
X-PUBLISHED-TTL:PT1H
BEGIN:VTIMEZONE
TZID:America/Los_Angeles
BEGIN:DAYLIGHT
TZOFFSETFROM:-0800
TZOFFSETTO:-0700
TZNAME:PDT
DTSTART:20250309T100000
END:DAYLIGHT
BEGIN:STANDARD
TZOFFSETFROM:-0700
TZOFFSETTO:-0800
TZNAME:PST
DTSTART:20251102T090000
END:STANDARD
BEGIN:DAYLIGHT
TZOFFSETFROM:-0800
TZOFFSETTO:-0700
TZNAME:PDT
DTSTART:20260308T100000
END:DAYLIGHT
BEGIN:STANDARD
TZOFFSETFROM:-0700
TZOFFSETTO:-0800
TZNAME:PST
DTSTART:20261101T090000
END:STANDARD
BEGIN:DAYLIGHT
TZOFFSETFROM:-0800
TZOFFSETTO:-0700
TZNAME:PDT
DTSTART:20270314T100000
END:DAYLIGHT
BEGIN:STANDARD
TZOFFSETFROM:-0700
TZOFFSETTO:-0800
TZNAME:PST
DTSTART:20271107T090000
END:STANDARD
END:VTIMEZONE
BEGIN:VEVENT
DTSTART;TZID=America/Los_Angeles:20260303T110000
DTEND;TZID=America/Los_Angeles:20260303T120000
DTSTAMP:20260421T011232
CREATED:20230601T220240Z
LAST-MODIFIED:20230606T225259Z
UID:10000553-1772535600-1772539200@www.modchamber.org
SUMMARY:Modesto Chamber of Commerce Executive Committee Meeting
DESCRIPTION:
URL:https://www.modchamber.org/event/modesto-chamber-of-commerce-executive-committee-meeting/2026-03-03/
ATTACH;FMTTYPE=image/jpeg:https://www.modchamber.org/wp-content/uploads/2022/04/ModestoChamber_logo100dpi.jpg
END:VEVENT
BEGIN:VEVENT
DTSTART;TZID=America/Los_Angeles:20260310T153000
DTEND;TZID=America/Los_Angeles:20260310T170000
DTSTAMP:20260421T011232
CREATED:20230601T220010Z
LAST-MODIFIED:20230606T225600Z
UID:10000493-1773156600-1773162000@www.modchamber.org
SUMMARY:Modesto Chamber of Commerce Board Meeting
DESCRIPTION:  \n 
URL:https://www.modchamber.org/event/modesto-chamber-of-commerce-board-meeting/2026-03-10/
ATTACH;FMTTYPE=image/jpeg:https://www.modchamber.org/wp-content/uploads/2020/02/ModestoChamber_logo100dpi.jpg
END:VEVENT
BEGIN:VEVENT
DTSTART;TZID=America/Los_Angeles:20260319T160000
DTEND;TZID=America/Los_Angeles:20260319T170000
DTSTAMP:20260421T011232
CREATED:20230605T184227Z
LAST-MODIFIED:20230606T225651Z
UID:10000673-1773936000-1773939600@www.modchamber.org
SUMMARY:Leadership Modesto Steering Committee Meeting
DESCRIPTION:
URL:https://www.modchamber.org/event/leadership-modesto-steering-committee-meeting/2026-03-19/
ATTACH;FMTTYPE=image/jpeg:https://www.modchamber.org/wp-content/uploads/2018/01/LEadership-Modesto.jpg
END:VEVENT
BEGIN:VEVENT
DTSTART;TZID=America/Los_Angeles:20260319T170000
DTEND;TZID=America/Los_Angeles:20260319T183000
DTSTAMP:20260421T011232
CREATED:20260225T194203Z
LAST-MODIFIED:20260225T194204Z
UID:10001047-1773939600-1773945000@www.modchamber.org
SUMMARY:Women in Business Evening Social
DESCRIPTION:Register HERE
URL:https://www.modchamber.org/event/women-in-business-evening-social-7/
CATEGORIES:Relationship Event
ORGANIZER;CN="Felicia Lopez":MAILTO:flopez@modchamber.org
END:VEVENT
BEGIN:VEVENT
DTSTART;TZID=America/Los_Angeles:20260320T113000
DTEND;TZID=America/Los_Angeles:20260320T130000
DTSTAMP:20260421T011232
CREATED:20260309T203025Z
LAST-MODIFIED:20260309T203026Z
UID:10001006-1774006200-1774011600@www.modchamber.org
SUMMARY:Government Relations Council Meeting
DESCRIPTION:Government Relations Council\nEvery 3rd Friday of the month(Excluding holidays)\nContact sshaw@modchamber.org for details on upcoming meetings
URL:https://www.modchamber.org/event/7561-3-3/
CATEGORIES:Advocacy Event
ATTACH;FMTTYPE=image/png:https://www.modchamber.org/wp-content/uploads/2025/01/GRC-LOGO-final.png
END:VEVENT
BEGIN:VEVENT
DTSTART;TZID=America/Los_Angeles:20260331T100000
DTEND;TZID=America/Los_Angeles:20260331T120000
DTSTAMP:20260421T011232
CREATED:20260310T204954Z
LAST-MODIFIED:20260319T173404Z
UID:10001051-1774951200-1774958400@www.modchamber.org
SUMMARY:Women Owned Business Sector Meeting
DESCRIPTION:  \nREGISTER
URL:https://www.modchamber.org/event/women-owned-business-sector-meeting/
CATEGORIES:Community Event
END:VEVENT
BEGIN:VEVENT
DTSTART;TZID=America/Los_Angeles:20260331T160000
DTEND;TZID=America/Los_Angeles:20260331T170000
DTSTAMP:20260421T011232
CREATED:20230829T212116Z
LAST-MODIFIED:20230829T212135Z
UID:10000613-1774972800-1774976400@www.modchamber.org
SUMMARY:Modesto Chamber of Commerce Finance Committee
DESCRIPTION:These are CLOSED meetings held monthly.
URL:https://www.modchamber.org/event/modesto-chamber-of-commerce-finance-committee-2/2026-03-31/
ATTACH;FMTTYPE=image/jpeg:https://www.modchamber.org/wp-content/uploads/2022/04/ModestoChamber_logo100dpi.jpg
END:VEVENT
END:VCALENDAR