BEGIN:VCALENDAR
VERSION:2.0
PRODID:-//Modesto Chamber of Commerce - ECPv6.15.20//NONSGML v1.0//EN
CALSCALE:GREGORIAN
METHOD:PUBLISH
X-WR-CALNAME:Modesto Chamber of Commerce
X-ORIGINAL-URL:https://www.modchamber.org
X-WR-CALDESC:Events for Modesto Chamber of Commerce
REFRESH-INTERVAL;VALUE=DURATION:PT1H
X-Robots-Tag:noindex
X-PUBLISHED-TTL:PT1H
BEGIN:VTIMEZONE
TZID:America/Los_Angeles
BEGIN:DAYLIGHT
TZOFFSETFROM:-0800
TZOFFSETTO:-0700
TZNAME:PDT
DTSTART:20250309T100000
END:DAYLIGHT
BEGIN:STANDARD
TZOFFSETFROM:-0700
TZOFFSETTO:-0800
TZNAME:PST
DTSTART:20251102T090000
END:STANDARD
BEGIN:DAYLIGHT
TZOFFSETFROM:-0800
TZOFFSETTO:-0700
TZNAME:PDT
DTSTART:20260308T100000
END:DAYLIGHT
BEGIN:STANDARD
TZOFFSETFROM:-0700
TZOFFSETTO:-0800
TZNAME:PST
DTSTART:20261101T090000
END:STANDARD
BEGIN:DAYLIGHT
TZOFFSETFROM:-0800
TZOFFSETTO:-0700
TZNAME:PDT
DTSTART:20270314T100000
END:DAYLIGHT
BEGIN:STANDARD
TZOFFSETFROM:-0700
TZOFFSETTO:-0800
TZNAME:PST
DTSTART:20271107T090000
END:STANDARD
END:VTIMEZONE
BEGIN:VEVENT
DTSTART;TZID=America/Los_Angeles:20260106T110000
DTEND;TZID=America/Los_Angeles:20260106T120000
DTSTAMP:20260421T021904
CREATED:20230601T220240Z
LAST-MODIFIED:20230606T225259Z
UID:10000551-1767697200-1767700800@www.modchamber.org
SUMMARY:Modesto Chamber of Commerce Executive Committee Meeting
DESCRIPTION:
URL:https://www.modchamber.org/event/modesto-chamber-of-commerce-executive-committee-meeting/2026-01-06/
ATTACH;FMTTYPE=image/jpeg:https://www.modchamber.org/wp-content/uploads/2022/04/ModestoChamber_logo100dpi.jpg
END:VEVENT
BEGIN:VEVENT
DTSTART;TZID=America/Los_Angeles:20260109T083000
DTEND;TZID=America/Los_Angeles:20260109T093000
DTSTAMP:20260421T021904
CREATED:20260108T214739Z
LAST-MODIFIED:20260108T214739Z
UID:10001039-1767947400-1767951000@www.modchamber.org
SUMMARY:Welcome & Ambassador Committee Meeting
DESCRIPTION:https://business.modchamber.org/events/details/welcome-ambassador-committee-meeting-january-9-2026-12995
URL:https://www.modchamber.org/event/welcome-ambassador-committee-meeting/
END:VEVENT
BEGIN:VEVENT
DTSTART;TZID=America/Los_Angeles:20260113T120000
DTEND;TZID=America/Los_Angeles:20260113T140000
DTSTAMP:20260421T021904
CREATED:20260108T212151Z
LAST-MODIFIED:20260108T212317Z
UID:10001037-1768305600-1768312800@www.modchamber.org
SUMMARY:American Family Care Urgent Care Ribbon Cutting
DESCRIPTION:
URL:https://www.modchamber.org/event/american-family-care-urgent-care-ribbon-cutting/
LOCATION:2001 McHenry Ave\, Suite L\, Modesto\, CA 95350
CATEGORIES:Relationship Event
END:VEVENT
BEGIN:VEVENT
DTSTART;TZID=America/Los_Angeles:20260113T153000
DTEND;TZID=America/Los_Angeles:20260113T170000
DTSTAMP:20260421T021904
CREATED:20230601T220010Z
LAST-MODIFIED:20230606T225600Z
UID:10000491-1768318200-1768323600@www.modchamber.org
SUMMARY:Modesto Chamber of Commerce Board Meeting
DESCRIPTION:  \n 
URL:https://www.modchamber.org/event/modesto-chamber-of-commerce-board-meeting/2026-01-13/
ATTACH;FMTTYPE=image/jpeg:https://www.modchamber.org/wp-content/uploads/2020/02/ModestoChamber_logo100dpi.jpg
END:VEVENT
BEGIN:VEVENT
DTSTART;TZID=America/Los_Angeles:20260115T160000
DTEND;TZID=America/Los_Angeles:20260115T170000
DTSTAMP:20260421T021904
CREATED:20230605T184227Z
LAST-MODIFIED:20230606T225651Z
UID:10000671-1768492800-1768496400@www.modchamber.org
SUMMARY:Leadership Modesto Steering Committee Meeting
DESCRIPTION:
URL:https://www.modchamber.org/event/leadership-modesto-steering-committee-meeting/2026-01-15/
ATTACH;FMTTYPE=image/jpeg:https://www.modchamber.org/wp-content/uploads/2018/01/LEadership-Modesto.jpg
END:VEVENT
BEGIN:VEVENT
DTSTART;TZID=America/Los_Angeles:20260116T113000
DTEND;TZID=America/Los_Angeles:20260116T130000
DTSTAMP:20260421T021904
CREATED:20250523T204324Z
LAST-MODIFIED:20250523T204324Z
UID:10001004-1768563000-1768568400@www.modchamber.org
SUMMARY:Government Relations Council Meeting
DESCRIPTION:Government Relations Council\nEvery 3rd Friday of the month(Excluding holidays)\nContact sshaw@modchamber.org for details on upcoming meetings
URL:https://www.modchamber.org/event/7561-3/2026-01-16/
CATEGORIES:Advocacy Event
ATTACH;FMTTYPE=image/png:https://www.modchamber.org/wp-content/uploads/2025/01/GRC-LOGO-final.png
END:VEVENT
BEGIN:VEVENT
DTSTART;TZID=America/Los_Angeles:20260121T150000
DTEND;TZID=America/Los_Angeles:20260121T160000
DTSTAMP:20260421T021904
CREATED:20260108T212858Z
LAST-MODIFIED:20260108T212913Z
UID:10001038-1769007600-1769011200@www.modchamber.org
SUMMARY:Renew You Body Butters Green Ribbon Cutting
DESCRIPTION:
URL:https://www.modchamber.org/event/renew-you-body-butter-green-ribbon-cutting/
LOCATION:Modesto Chamber of Commerce\, 1114 J Street\, Modesto\, CA\, 95354\, United States
CATEGORIES:Relationship Event
GEO:37.641396;-120.9988215
X-APPLE-STRUCTURED-LOCATION;VALUE=URI;X-ADDRESS=Modesto Chamber of Commerce 1114 J Street Modesto CA 95354 United States;X-APPLE-RADIUS=500;X-TITLE=1114 J Street:geo:-120.9988215,37.641396
END:VEVENT
BEGIN:VEVENT
DTSTART;TZID=America/Los_Angeles:20260127T160000
DTEND;TZID=America/Los_Angeles:20260127T170000
DTSTAMP:20260421T021904
CREATED:20230829T212116Z
LAST-MODIFIED:20230829T212135Z
UID:10000611-1769529600-1769533200@www.modchamber.org
SUMMARY:Modesto Chamber of Commerce Finance Committee
DESCRIPTION:These are CLOSED meetings held monthly.
URL:https://www.modchamber.org/event/modesto-chamber-of-commerce-finance-committee-2/2026-01-27/
ATTACH;FMTTYPE=image/jpeg:https://www.modchamber.org/wp-content/uploads/2022/04/ModestoChamber_logo100dpi.jpg
END:VEVENT
BEGIN:VEVENT
DTSTART;TZID=America/Los_Angeles:20260129T173000
DTEND;TZID=America/Los_Angeles:20260129T203000
DTSTAMP:20260421T021904
CREATED:20251205T231050Z
LAST-MODIFIED:20251205T231050Z
UID:10001034-1769707800-1769718600@www.modchamber.org
SUMMARY:Members Choice Awards Banquet & Board Installation
DESCRIPTION:TO  \nSponsor or purchase tickets HERE
URL:https://www.modchamber.org/event/members-choice-awards-banquet-board-installation/
LOCATION:1150 9th Street\, Modesto\, CA 95354\, 1150 9th Street\, Modesto\, CA\, 95354\, United States
CATEGORIES:Community Event,Relationship Event
ORGANIZER;CN="Felicia Lopez":MAILTO:flopez@modchamber.org
GEO:37.6419534;-121.0022397
X-APPLE-STRUCTURED-LOCATION;VALUE=URI;X-ADDRESS=1150 9th Street Modesto CA 95354 1150 9th Street Modesto CA 95354 United States;X-APPLE-RADIUS=500;X-TITLE=1150 9th Street:geo:-121.0022397,37.6419534
END:VEVENT
END:VCALENDAR