BEGIN:VCALENDAR
VERSION:2.0
PRODID:-//Modesto Chamber of Commerce - ECPv6.15.20//NONSGML v1.0//EN
CALSCALE:GREGORIAN
METHOD:PUBLISH
X-ORIGINAL-URL:https://www.modchamber.org
X-WR-CALDESC:Events for Modesto Chamber of Commerce
REFRESH-INTERVAL;VALUE=DURATION:PT1H
X-Robots-Tag:noindex
X-PUBLISHED-TTL:PT1H
BEGIN:VTIMEZONE
TZID:America/Los_Angeles
BEGIN:DAYLIGHT
TZOFFSETFROM:-0800
TZOFFSETTO:-0700
TZNAME:PDT
DTSTART:20240310T100000
END:DAYLIGHT
BEGIN:STANDARD
TZOFFSETFROM:-0700
TZOFFSETTO:-0800
TZNAME:PST
DTSTART:20241103T090000
END:STANDARD
BEGIN:DAYLIGHT
TZOFFSETFROM:-0800
TZOFFSETTO:-0700
TZNAME:PDT
DTSTART:20250309T100000
END:DAYLIGHT
BEGIN:STANDARD
TZOFFSETFROM:-0700
TZOFFSETTO:-0800
TZNAME:PST
DTSTART:20251102T090000
END:STANDARD
BEGIN:DAYLIGHT
TZOFFSETFROM:-0800
TZOFFSETTO:-0700
TZNAME:PDT
DTSTART:20260308T100000
END:DAYLIGHT
BEGIN:STANDARD
TZOFFSETFROM:-0700
TZOFFSETTO:-0800
TZNAME:PST
DTSTART:20261101T090000
END:STANDARD
END:VTIMEZONE
BEGIN:VEVENT
DTSTART;TZID=America/Los_Angeles:20250304T110000
DTEND;TZID=America/Los_Angeles:20250304T120000
DTSTAMP:20260422T071055
CREATED:20230601T220240Z
LAST-MODIFIED:20230606T225259Z
UID:10000541-1741086000-1741089600@www.modchamber.org
SUMMARY:Modesto Chamber of Commerce Executive Committee Meeting
DESCRIPTION:
URL:https://www.modchamber.org/event/modesto-chamber-of-commerce-executive-committee-meeting/2025-03-04/
ATTACH;FMTTYPE=image/jpeg:https://www.modchamber.org/wp-content/uploads/2022/04/ModestoChamber_logo100dpi.jpg
END:VEVENT
BEGIN:VEVENT
DTSTART;TZID=America/Los_Angeles:20250305T113000
DTEND;TZID=America/Los_Angeles:20250305T130000
DTSTAMP:20260422T071055
CREATED:20250117T164955Z
LAST-MODIFIED:20250523T204045Z
UID:10000927-1741174200-1741179600@www.modchamber.org
SUMMARY:Economic Development Committee Meeting
DESCRIPTION:Economic Development Committee\n1st Wednesday’s of the month(excluding holidays)\nContact sshaw@modchamber.org for details on upcoming meetings
URL:https://www.modchamber.org/event/economic-development-committee-meeting-4/2025-03-05/
CATEGORIES:Advocacy Event
ATTACH;FMTTYPE=image/jpeg:https://www.modchamber.org/wp-content/uploads/2025/01/EDC-Logo_-002.jpg
END:VEVENT
BEGIN:VEVENT
DTSTART;TZID=America/Los_Angeles:20250311T073000
DTEND;TZID=America/Los_Angeles:20250311T090000
DTSTAMP:20260422T071055
CREATED:20250225T005506Z
LAST-MODIFIED:20250310T155702Z
UID:10000951-1741678200-1741683600@www.modchamber.org
SUMMARY:Rise & Shine with CEO's - Rising Professionals & Women in Business
DESCRIPTION:March 11th 2025\n7:30 AM – 9:00AM\n  \n\n Greens on Tenth\n953 10th St\, Modesto\, CA 95354\n  \nStart your day with inspiration and insight at our Rise and Shine with CEOs event\, where you’ll have the unique opportunity to connect with some of the most respected CEOs from our local business community. \nWhy Attend? \nThis exclusive event brings together Rising Professionals and Women in Business for a morning filled with meaningful conversations\, leadership insights\, and networking opportunities. Whether you’re an aspiring leader\, established professional\, or entrepreneur\, this event will give you the chance to: \n\nHear Career Journeys: Learn firsthand how local CEOs built their careers\, overcame challenges\, and reached leadership positions.\nGain Leadership Insights: Discover the key leadership traits and strategies that shaped their paths to success.\nEngage with a Q&A Session: Get your questions answered directly by the panel during our interactive Q&A session.\nNetwork with Like-Minded Professionals: Connect with rising professionals and influential leaders across different industries.\n\nBreakfast IncludedEnjoy a delicious breakfast as you soak in the wisdom of industry leaders and make valuable connections to elevate your professional journey. \nThis is a must-attend event for anyone seeking to grow their leadership skills\, expand their professional network\, and gain real-world advice from those who have risen to the top. \nRegister Today!Seats are limited\, so don’t miss your chance to be part of this powerful morning of learning and networking. Register now and take your first step towards unlocking new professional opportunities! \nRegister Here
URL:https://www.modchamber.org/event/rise-shine-with-ceos-rising-professionals-women-in-business/
CATEGORIES:Community Event,Service Event
ORGANIZER;CN="Felicia Lopez":MAILTO:flopez@modchamber.org
END:VEVENT
BEGIN:VEVENT
DTSTART;TZID=America/Los_Angeles:20250311T153000
DTEND;TZID=America/Los_Angeles:20250311T170000
DTSTAMP:20260422T071055
CREATED:20230601T220010Z
LAST-MODIFIED:20230606T225600Z
UID:10000481-1741707000-1741712400@www.modchamber.org
SUMMARY:Modesto Chamber of Commerce Board Meeting
DESCRIPTION:  \n 
URL:https://www.modchamber.org/event/modesto-chamber-of-commerce-board-meeting/2025-03-11/
ATTACH;FMTTYPE=image/jpeg:https://www.modchamber.org/wp-content/uploads/2020/02/ModestoChamber_logo100dpi.jpg
END:VEVENT
BEGIN:VEVENT
DTSTART;TZID=America/Los_Angeles:20250320T160000
DTEND;TZID=America/Los_Angeles:20250320T170000
DTSTAMP:20260422T071055
CREATED:20230605T184227Z
LAST-MODIFIED:20230606T225651Z
UID:10000661-1742486400-1742490000@www.modchamber.org
SUMMARY:Leadership Modesto Steering Committee Meeting
DESCRIPTION:
URL:https://www.modchamber.org/event/leadership-modesto-steering-committee-meeting/2025-03-20/
ATTACH;FMTTYPE=image/jpeg:https://www.modchamber.org/wp-content/uploads/2018/01/LEadership-Modesto.jpg
END:VEVENT
BEGIN:VEVENT
DTSTART;TZID=America/Los_Angeles:20250321T113000
DTEND;TZID=America/Los_Angeles:20250321T130000
DTSTAMP:20260422T071055
CREATED:20250317T210217Z
LAST-MODIFIED:20250317T210217Z
UID:10000939-1742556600-1742562000@www.modchamber.org
SUMMARY:Government Relations Council Meeting
DESCRIPTION:Government Relations Council\nEvery 3rd Friday of the month(Excluding holidays)\nContact sshaw@modchamber.org for details on upcoming meetings
URL:https://www.modchamber.org/event/7561-2/
CATEGORIES:Advocacy Event
ATTACH;FMTTYPE=image/png:https://www.modchamber.org/wp-content/uploads/2025/01/GRC-LOGO-final.png
END:VEVENT
BEGIN:VEVENT
DTSTART;TZID=America/Los_Angeles:20250325T160000
DTEND;TZID=America/Los_Angeles:20250325T170000
DTSTAMP:20260422T071055
CREATED:20230829T212116Z
LAST-MODIFIED:20230829T212135Z
UID:10000601-1742918400-1742922000@www.modchamber.org
SUMMARY:Modesto Chamber of Commerce Finance Committee
DESCRIPTION:These are CLOSED meetings held monthly.
URL:https://www.modchamber.org/event/modesto-chamber-of-commerce-finance-committee-2/2025-03-25/
ATTACH;FMTTYPE=image/jpeg:https://www.modchamber.org/wp-content/uploads/2022/04/ModestoChamber_logo100dpi.jpg
END:VEVENT
END:VCALENDAR