BEGIN:VCALENDAR
VERSION:2.0
PRODID:-//Modesto Chamber of Commerce - ECPv6.15.20//NONSGML v1.0//EN
CALSCALE:GREGORIAN
METHOD:PUBLISH
X-ORIGINAL-URL:https://www.modchamber.org
X-WR-CALDESC:Events for Modesto Chamber of Commerce
REFRESH-INTERVAL;VALUE=DURATION:PT1H
X-Robots-Tag:noindex
X-PUBLISHED-TTL:PT1H
BEGIN:VTIMEZONE
TZID:America/Los_Angeles
BEGIN:DAYLIGHT
TZOFFSETFROM:-0800
TZOFFSETTO:-0700
TZNAME:PDT
DTSTART:20240310T100000
END:DAYLIGHT
BEGIN:STANDARD
TZOFFSETFROM:-0700
TZOFFSETTO:-0800
TZNAME:PST
DTSTART:20241103T090000
END:STANDARD
BEGIN:DAYLIGHT
TZOFFSETFROM:-0800
TZOFFSETTO:-0700
TZNAME:PDT
DTSTART:20250309T100000
END:DAYLIGHT
BEGIN:STANDARD
TZOFFSETFROM:-0700
TZOFFSETTO:-0800
TZNAME:PST
DTSTART:20251102T090000
END:STANDARD
BEGIN:DAYLIGHT
TZOFFSETFROM:-0800
TZOFFSETTO:-0700
TZNAME:PDT
DTSTART:20260308T100000
END:DAYLIGHT
BEGIN:STANDARD
TZOFFSETFROM:-0700
TZOFFSETTO:-0800
TZNAME:PST
DTSTART:20261101T090000
END:STANDARD
END:VTIMEZONE
BEGIN:VEVENT
DTSTART;TZID=America/Los_Angeles:20250107T110000
DTEND;TZID=America/Los_Angeles:20250107T120000
DTSTAMP:20260422T071056
CREATED:20230601T220240Z
LAST-MODIFIED:20230606T225259Z
UID:10000539-1736247600-1736251200@www.modchamber.org
SUMMARY:Modesto Chamber of Commerce Executive Committee Meeting
DESCRIPTION:
URL:https://www.modchamber.org/event/modesto-chamber-of-commerce-executive-committee-meeting/2025-01-07/
ATTACH;FMTTYPE=image/jpeg:https://www.modchamber.org/wp-content/uploads/2022/04/ModestoChamber_logo100dpi.jpg
END:VEVENT
BEGIN:VEVENT
DTSTART;TZID=America/Los_Angeles:20250114T153000
DTEND;TZID=America/Los_Angeles:20250114T170000
DTSTAMP:20260422T071056
CREATED:20230601T220010Z
LAST-MODIFIED:20230606T225600Z
UID:10000479-1736868600-1736874000@www.modchamber.org
SUMMARY:Modesto Chamber of Commerce Board Meeting
DESCRIPTION:  \n 
URL:https://www.modchamber.org/event/modesto-chamber-of-commerce-board-meeting/2025-01-14/
ATTACH;FMTTYPE=image/jpeg:https://www.modchamber.org/wp-content/uploads/2020/02/ModestoChamber_logo100dpi.jpg
END:VEVENT
BEGIN:VEVENT
DTSTART;TZID=America/Los_Angeles:20250116T160000
DTEND;TZID=America/Los_Angeles:20250116T170000
DTSTAMP:20260422T071056
CREATED:20230605T184227Z
LAST-MODIFIED:20230606T225651Z
UID:10000659-1737043200-1737046800@www.modchamber.org
SUMMARY:Leadership Modesto Steering Committee Meeting
DESCRIPTION:
URL:https://www.modchamber.org/event/leadership-modesto-steering-committee-meeting/2025-01-16/
ATTACH;FMTTYPE=image/jpeg:https://www.modchamber.org/wp-content/uploads/2018/01/LEadership-Modesto.jpg
END:VEVENT
BEGIN:VEVENT
DTSTART;TZID=America/Los_Angeles:20250117T113000
DTEND;TZID=America/Los_Angeles:20250117T130000
DTSTAMP:20260422T071056
CREATED:20250117T165258Z
LAST-MODIFIED:20250117T165416Z
UID:10000937-1737113400-1737118800@www.modchamber.org
SUMMARY:Government Relations Council Meeting
DESCRIPTION:Government Relations Council\nEvery 3rd Friday of the month(Excluding holidays)\nContact sshaw@modchamber.org for details on upcoming meetings
URL:https://www.modchamber.org/event/7561/2025-01-17/
CATEGORIES:Advocacy Event
ATTACH;FMTTYPE=image/png:https://www.modchamber.org/wp-content/uploads/2025/01/GRC-LOGO-final.png
END:VEVENT
BEGIN:VEVENT
DTSTART;TZID=America/Los_Angeles:20250128T160000
DTEND;TZID=America/Los_Angeles:20250128T170000
DTSTAMP:20260422T071056
CREATED:20230829T212116Z
LAST-MODIFIED:20230829T212135Z
UID:10000599-1738080000-1738083600@www.modchamber.org
SUMMARY:Modesto Chamber of Commerce Finance Committee
DESCRIPTION:These are CLOSED meetings held monthly.
URL:https://www.modchamber.org/event/modesto-chamber-of-commerce-finance-committee-2/2025-01-28/
ATTACH;FMTTYPE=image/jpeg:https://www.modchamber.org/wp-content/uploads/2022/04/ModestoChamber_logo100dpi.jpg
END:VEVENT
BEGIN:VEVENT
DTSTART;TZID=America/Los_Angeles:20250130T173000
DTEND;TZID=America/Los_Angeles:20250130T203000
DTSTAMP:20260422T071056
CREATED:20250107T004641Z
LAST-MODIFIED:20250107T004717Z
UID:10000925-1738258200-1738269000@www.modchamber.org
SUMMARY:111th Members’ Choice Awards & Anniversary Soiree
DESCRIPTION:111th Members’ Choice Awards & Anniversary Soiree\nJoin us on January 30th\, 2025\, from 5:30 PM to 8:30 PM at the Modesto Centre Plaza for a celebration\, recognition\, and networking night! This prestigious event will feature the introduction of the Lifetime Experience Award\, honoring remarkable contributions to the community\, alongside the Members’ Choice Awards\, where we recognize standout local businesses. Enjoy an evening of networking with business leaders\, celebrating achievements\, and supporting the continued growth of Modesto’s economy. \nSponsoring or attending this event is an excellent opportunity to align your brand with success\, increase visibility\, and make meaningful connections with key players in the community. Whether you’re there to celebrate\, network\, or support local businesses\, the 111th Members’ Choice Awards is an event you won’t want to miss. RSVP today and be part of Modesto’s most anticipated business \nRegister HERE 
URL:https://www.modchamber.org/event/111th-members-choice-awards-anniversary-soiree/
LOCATION:Modesto Centre Plaza\, 1000 L St\, 1000 L St\, 95354\, United States
CATEGORIES:Community Event,Relationship Event,Service Event
ORGANIZER;CN="Felicia Lopez":MAILTO:flopez@modchamber.org
GEO:37.6425265;-121.0014334
X-APPLE-STRUCTURED-LOCATION;VALUE=URI;X-ADDRESS=Modesto Centre Plaza 1000 L St 1000 L St 95354 United States;X-APPLE-RADIUS=500;X-TITLE=1000 L St:geo:-121.0014334,37.6425265
END:VEVENT
END:VCALENDAR