BEGIN:VCALENDAR
VERSION:2.0
PRODID:-//Modesto Chamber of Commerce - ECPv6.15.20//NONSGML v1.0//EN
CALSCALE:GREGORIAN
METHOD:PUBLISH
X-WR-CALNAME:Modesto Chamber of Commerce
X-ORIGINAL-URL:https://www.modchamber.org
X-WR-CALDESC:Events for Modesto Chamber of Commerce
REFRESH-INTERVAL;VALUE=DURATION:PT1H
X-Robots-Tag:noindex
X-PUBLISHED-TTL:PT1H
BEGIN:VTIMEZONE
TZID:America/Los_Angeles
BEGIN:DAYLIGHT
TZOFFSETFROM:-0800
TZOFFSETTO:-0700
TZNAME:PDT
DTSTART:20240310T100000
END:DAYLIGHT
BEGIN:STANDARD
TZOFFSETFROM:-0700
TZOFFSETTO:-0800
TZNAME:PST
DTSTART:20241103T090000
END:STANDARD
BEGIN:DAYLIGHT
TZOFFSETFROM:-0800
TZOFFSETTO:-0700
TZNAME:PDT
DTSTART:20250309T100000
END:DAYLIGHT
BEGIN:STANDARD
TZOFFSETFROM:-0700
TZOFFSETTO:-0800
TZNAME:PST
DTSTART:20251102T090000
END:STANDARD
BEGIN:DAYLIGHT
TZOFFSETFROM:-0800
TZOFFSETTO:-0700
TZNAME:PDT
DTSTART:20260308T100000
END:DAYLIGHT
BEGIN:STANDARD
TZOFFSETFROM:-0700
TZOFFSETTO:-0800
TZNAME:PST
DTSTART:20261101T090000
END:STANDARD
END:VTIMEZONE
BEGIN:VEVENT
DTSTART;TZID=America/Los_Angeles:20250506T080000
DTEND;TZID=America/Los_Angeles:20250506T090000
DTSTAMP:20260424T193643
CREATED:20250326T222445Z
LAST-MODIFIED:20250326T223357Z
UID:10000957-1746518400-1746522000@www.modchamber.org
SUMMARY:Rising Professionals Business Brew
DESCRIPTION:Join us for the Rising Professionals Business Brew\, a morning networking event designed for professionals from all industries to connect\, collaborate\, and grow. Whether you’re looking to build your professional network or form new personal relationships\, this event is the perfect way to start your day. \n\n\nFeatured Business Highlight: Each event will showcase a local business\, providing insights and inspiration for attendees. \n\n\nNetworking Opportunities: Engage with professionals from a variety of fields\, exchange ideas\, and create valuable connections. \n\n\nProfessional and Personal Development: Build lasting relationships that benefit your career and personal growth. \n\n\nSponsor the Rising Professionals Program!\nSponsoring the Rising Professionals Program is a unique opportunity to support the growth of emerging leaders in our community while increasing your business’s visibility. Here’s why you should get involved: \n\n\nOngoing Brand Visibility: Your sponsorship isn’t limited to a single event—it extends to the entire program\, giving you year-round exposure through multiple events and marketing campaigns. \n\n\nSupport Professional Development: By sponsoring\, you’re investing in the development of professionals across industries\, helping them build networks\, develop skills\, and grow their careers. \n\n\nComprehensive Marketing Benefits: Sponsors receive recognition on all program-related materials\, including emails\, social media posts\, the Chamber’s website\, and event signage. \n\n\nIf you’re interested in sponsoring the program and having your business showcased at these events\, contact us to learn more about the available opportunities. \n\nSponsorship Opportunities Available\, contact flopez@modchamber.org or 209-577-5757. \n  \nWant to host and highlight your business at the next Business Brew? Contact us to learn how you can sponsor and showcase your business to our diverse network.\n  \nRegister HERE 
URL:https://www.modchamber.org/event/rising-professionals-business-brew-2/
CATEGORIES:Relationship Event
ORGANIZER;CN="Felicia Lopez":MAILTO:flopez@modchamber.org
END:VEVENT
BEGIN:VEVENT
DTSTART;TZID=America/Los_Angeles:20250508T080000
DTEND;TZID=America/Los_Angeles:20250508T093000
DTSTAMP:20260424T193643
CREATED:20250416T221321Z
LAST-MODIFIED:20250416T221414Z
UID:10000988-1746691200-1746696600@www.modchamber.org
SUMMARY:Member Mix & Mingle - Security Public Storage
DESCRIPTION:RSVP HERE
URL:https://www.modchamber.org/event/member-mix-mingle-security-public-storage/
CATEGORIES:Relationship Event
END:VEVENT
BEGIN:VEVENT
DTSTART;TZID=America/Los_Angeles:20250515T080000
DTEND;TZID=America/Los_Angeles:20250515T090000
DTSTAMP:20260424T193643
CREATED:20250317T204818Z
LAST-MODIFIED:20250327T224917Z
UID:10000956-1747296000-1747299600@www.modchamber.org
SUMMARY:Women in Business Coffee and Conversations
DESCRIPTION:We are excited to invite you to our next Women in Business Coffee & Conversations event\, happening on May 15th from 8:00 AM to 9:00 AM at the Modesto Chamber of Commerce office. This monthly gathering is designed to bring together local businesswomen\, entrepreneurs\, and professionals in a supportive and dynamic environment. \nReasons to Attend:\n\n\nNetwork with Like-Minded Professionals: Connect with driven and passionate women in business\, exchange ideas\, share experiences\, and build meaningful relationships. \n\n\nPromote Your Business: Take advantage of the opportunity to market your business to a diverse group of professional women\, fostering potential partnerships and collaborations. \n\n\nGain New Insights: Learn from your peers and discover new perspectives that can help inspire growth and innovation in your own business journey. \n\n\nBuild a Strong Professional Community: Forge connections that go beyond business\, creating a community of support\, empowerment\, and personal growth. \n\n\nSponsorship Opportunities:\nWe are also offering program sponsorship opportunities for those interested in enhancing their visibility while supporting the Women in Business initiative. \nWhy Sponsor the Program?\n\n\nElevate Your Brand: As a sponsor\, you’ll receive recognition at each Coffee & Conversations event\, as well as in our promotional materials throughout the year. \n\n\nEngage Directly with Our Community: Gain access to a group of motivated\, goal-oriented women\, where your business can make lasting impressions. \n\n\nSupport Local Women in Business: Your sponsorship helps us continue to provide valuable programming and opportunities that uplift and empower women in our community. \n\n\nIf you’re interested in hosting a future event or learning more about sponsorship opportunities\, please reach out to us for more information. Hosting is a great way to showcase your business and create lasting connections! \nWe look forward to seeing you at our next Coffee & Conversations! \nFor more information\, contact flopez@modchamber.org
URL:https://www.modchamber.org/event/women-in-business-coffee-and-conversations-5/
CATEGORIES:Relationship Event
ORGANIZER;CN="Felicia Lopez":MAILTO:flopez@modchamber.org
END:VEVENT
END:VCALENDAR