BEGIN:VCALENDAR
VERSION:2.0
PRODID:-//Modesto Chamber of Commerce - ECPv6.15.20//NONSGML v1.0//EN
CALSCALE:GREGORIAN
METHOD:PUBLISH
X-ORIGINAL-URL:https://www.modchamber.org
X-WR-CALDESC:Events for Modesto Chamber of Commerce
REFRESH-INTERVAL;VALUE=DURATION:PT1H
X-Robots-Tag:noindex
X-PUBLISHED-TTL:PT1H
BEGIN:VTIMEZONE
TZID:America/Los_Angeles
BEGIN:DAYLIGHT
TZOFFSETFROM:-0800
TZOFFSETTO:-0700
TZNAME:PDT
DTSTART:20230312T100000
END:DAYLIGHT
BEGIN:STANDARD
TZOFFSETFROM:-0700
TZOFFSETTO:-0800
TZNAME:PST
DTSTART:20231105T090000
END:STANDARD
BEGIN:DAYLIGHT
TZOFFSETFROM:-0800
TZOFFSETTO:-0700
TZNAME:PDT
DTSTART:20240310T100000
END:DAYLIGHT
BEGIN:STANDARD
TZOFFSETFROM:-0700
TZOFFSETTO:-0800
TZNAME:PST
DTSTART:20241103T090000
END:STANDARD
BEGIN:DAYLIGHT
TZOFFSETFROM:-0800
TZOFFSETTO:-0700
TZNAME:PDT
DTSTART:20250309T100000
END:DAYLIGHT
BEGIN:STANDARD
TZOFFSETFROM:-0700
TZOFFSETTO:-0800
TZNAME:PST
DTSTART:20251102T090000
END:STANDARD
END:VTIMEZONE
BEGIN:VEVENT
DTSTART;TZID=America/Los_Angeles:20241112T074500
DTEND;TZID=America/Los_Angeles:20241112T090000
DTSTAMP:20260425T041615
CREATED:20241031T210324Z
LAST-MODIFIED:20241108T224901Z
UID:10000918-1731397500-1731402000@www.modchamber.org
SUMMARY:Rise and Shine with CEO'S
DESCRIPTION:  \n  \nJoin us for an inspiring morning with the Modesto Chamber of Commerce Rising Professionals program at Rise and Shine with CEOs on November 12th. This exclusive event features three remarkable nonprofit leaders who are shaping the future of our community. \n  \n7:45 AM to 9:00 AM. \nModesto Children’s Museum – 928 11th St\, Modesto\, CA 95354 \n  \nMeet the Panelists: \n\nAndrew Timbie\, Chief Executive Officer\, Sierra Vista Child & Family Services\nChelsie Webster\, MED | Chief Executive Officer\, Modesto Children’s Museum\nAmanda Hughes\, Executive Director\, Stanislaus 2030\n\nThese industry leaders will share their stories\, insights\, and experiences\, offering attendees an unparalleled opportunity to learn from the best in nonprofit leadership. Whether you’re a young professional\, seasoned leader\, or someone passionate about community impact\, this is a must-attend event! \nProgram Sponsors: \n\nPeace of Mind Pest Control\nHuff Construction\n\nDon’t miss this chance to network\, gain valuable insights\, and get inspired by some of the top CEOs in our community. \nFor questions or more information\, please contact us at INFO@MODCHAMBER.ORG.
URL:https://www.modchamber.org/event/rise-and-shine-with-ceos-4/
LOCATION:Modesto Children’s Museum\, 11th Street\, Modesto\, CA\, 95354\, United States
CATEGORIES:Community Event,Relationship Event
ATTACH;FMTTYPE=image/png:https://www.modchamber.org/wp-content/uploads/2024/10/Copy-of-Copy-of-Rise-and-Shine-with-CEO-s-Nov-1.png
ORGANIZER;CN="Felicia Lopez":MAILTO:flopez@modchamber.org
GEO:37.64091;-120.99846
X-APPLE-STRUCTURED-LOCATION;VALUE=URI;X-ADDRESS=Modesto Children’s Museum 11th Street Modesto CA 95354 United States;X-APPLE-RADIUS=500;X-TITLE=11th Street:geo:-120.99846,37.64091
END:VEVENT
BEGIN:VEVENT
DTSTART;TZID=America/Los_Angeles:20241114T120000
DTEND;TZID=America/Los_Angeles:20241114T123000
DTSTAMP:20260425T041615
CREATED:20240927T164334Z
LAST-MODIFIED:20240927T164334Z
UID:10000905-1731585600-1731587400@www.modchamber.org
SUMMARY:Grand Opening - Famous Daves
DESCRIPTION:
URL:https://www.modchamber.org/event/grand-opening-famous-daves/
CATEGORIES:Relationship Event
ATTACH;FMTTYPE=image/jpeg:https://www.modchamber.org/wp-content/uploads/2024/09/Famous-Daves-x-Chamber-Invite.jpg
END:VEVENT
BEGIN:VEVENT
DTSTART;TZID=America/Los_Angeles:20241115T080000
DTEND;TZID=America/Los_Angeles:20241115T090000
DTSTAMP:20260425T041615
CREATED:20240927T174241Z
LAST-MODIFIED:20240927T174241Z
UID:10000913-1731657600-1731661200@www.modchamber.org
SUMMARY:Ambassador & Welcome Team Meeting
DESCRIPTION:
URL:https://www.modchamber.org/event/ambassador-welcome-team-meeting-3/
CATEGORIES:Relationship Event
END:VEVENT
BEGIN:VEVENT
DTSTART;TZID=America/Los_Angeles:20241119T120000
DTEND;TZID=America/Los_Angeles:20241119T130000
DTSTAMP:20260425T041615
CREATED:20241105T212438Z
LAST-MODIFIED:20241108T211012Z
UID:10000919-1732017600-1732021200@www.modchamber.org
SUMMARY:Women in Business Lunch and Learn
DESCRIPTION:  \n  \nWomen in Business Lunch & Learn:\nElevate Your Brand with Sara Malough\n  \nAre you a woman entrepreneur looking to take your brand to the next level? Join us for an exclusive Women in Business Lunch & Learn on November 19th from 12 PM to 1 PM\, featuring Sara Malough\, CEO of Jane Media. \nSara\, a branding and digital marketing expert\, will guide you through the process of building a brand that not only stands out but truly connects with your target audience. Whether you’re looking to strengthen your online presence or refine your brand identity\, this session will provide you with actionable insights and tools to help you grow your business in today’s competitive digital landscape. \nWhat You’ll Learn:\n\nHow to develop a brand that resonates with your audience\nKey strategies for enhancing your digital presence\nPractical tips to stand out in the crowded online marketplace\n\nThis event is not only an opportunity to gain valuable branding strategies but also a chance to network with like-minded women entrepreneurs and professionals. Enjoy a delicious lunch\, connect with your peers\, and leave with new ideas to implement in your business! \nDon’t miss out—save your spot today! Register HERE 
URL:https://www.modchamber.org/event/women-in-business-lunch-and-learn-3/
LOCATION:Modesto Chamber of Commerce\, 1114 J Street\, Modesto\, CA\, 95354\, United States
CATEGORIES:Education Event,Relationship Event
ORGANIZER;CN="Felicia Lopez":MAILTO:flopez@modchamber.org
GEO:37.641396;-120.9988215
X-APPLE-STRUCTURED-LOCATION;VALUE=URI;X-ADDRESS=Modesto Chamber of Commerce 1114 J Street Modesto CA 95354 United States;X-APPLE-RADIUS=500;X-TITLE=1114 J Street:geo:-120.9988215,37.641396
END:VEVENT
END:VCALENDAR