BEGIN:VCALENDAR
VERSION:2.0
PRODID:-//Modesto Chamber of Commerce - ECPv6.15.20//NONSGML v1.0//EN
CALSCALE:GREGORIAN
METHOD:PUBLISH
X-WR-CALNAME:Modesto Chamber of Commerce
X-ORIGINAL-URL:https://www.modchamber.org
X-WR-CALDESC:Events for Modesto Chamber of Commerce
REFRESH-INTERVAL;VALUE=DURATION:PT1H
X-Robots-Tag:noindex
X-PUBLISHED-TTL:PT1H
BEGIN:VTIMEZONE
TZID:America/Los_Angeles
BEGIN:DAYLIGHT
TZOFFSETFROM:-0800
TZOFFSETTO:-0700
TZNAME:PDT
DTSTART:20230312T100000
END:DAYLIGHT
BEGIN:STANDARD
TZOFFSETFROM:-0700
TZOFFSETTO:-0800
TZNAME:PST
DTSTART:20231105T090000
END:STANDARD
BEGIN:DAYLIGHT
TZOFFSETFROM:-0800
TZOFFSETTO:-0700
TZNAME:PDT
DTSTART:20240310T100000
END:DAYLIGHT
BEGIN:STANDARD
TZOFFSETFROM:-0700
TZOFFSETTO:-0800
TZNAME:PST
DTSTART:20241103T090000
END:STANDARD
BEGIN:DAYLIGHT
TZOFFSETFROM:-0800
TZOFFSETTO:-0700
TZNAME:PDT
DTSTART:20250309T100000
END:DAYLIGHT
BEGIN:STANDARD
TZOFFSETFROM:-0700
TZOFFSETTO:-0800
TZNAME:PST
DTSTART:20251102T090000
END:STANDARD
END:VTIMEZONE
BEGIN:VEVENT
DTSTART;TZID=America/Los_Angeles:20240905T173000
DTEND;TZID=America/Los_Angeles:20240905T190000
DTSTAMP:20260425T101104
CREATED:20240828T194252Z
LAST-MODIFIED:20240828T194336Z
UID:10000897-1725557400-1725562800@www.modchamber.org
SUMMARY:Members Mix & Mingle - Children's Museum
DESCRIPTION:Fall Kick-Off Members Mix & Mingle\nDate: September 5th\, 2024\nTime: 5:30 PM – 7:00 PM\nLocation: Modesto Children’s Museum\nCo-Hosted by: Burnside Body Shop \n\nGet ready to launch into the fall season with the Modesto Chamber of Commerce at our Fall Kick-Off Members Mix & Mingle! This exciting event\, co-hosted by Burnside Body Shop\, offers a unique opportunity to reconnect\, network\, and explore the Modesto Children’s Museum in a whole new light. \nWhat You Can Expect: \n\nExplore Like a Child: Take a break from the everyday and experience the museum’s exhibits with a sense of wonder.\nNetworking & Connections: Meet and mingle with fellow Chamber members\, local professionals\, and community leaders in a relaxed and engaging environment.\nDelicious Light Appetizers & Drinks: Enjoy complimentary appetizers and drinks as you explore and connect.\n\nThis event is open to the public\, so invite your friends and colleagues to join in the fun. Whether you’re a Chamber member or new to the community\, this is your chance to kick off the season with energy\, creativity\, and connection. \nDon’t Miss Out!\nJoin us for an evening of exploration\, networking\, and fun at the Modesto Children’s Museum. We can’t wait to see you there! \n  \nCo-hosted by 
URL:https://www.modchamber.org/event/members-mix-mingle-childrens-museum/
CATEGORIES:Community Event,Relationship Event
END:VEVENT
BEGIN:VEVENT
DTSTART;TZID=America/Los_Angeles:20240912T160000
DTEND;TZID=America/Los_Angeles:20240912T163000
DTSTAMP:20260425T101104
CREATED:20240906T211723Z
LAST-MODIFIED:20240906T222958Z
UID:10000898-1726156800-1726158600@www.modchamber.org
SUMMARY:Grand Opening Ceremony - Central West Ballet
DESCRIPTION:Hello Chamber friends and community partners\, \nPlease join us for a Grand Opening Ceremony in honor of Central West Ballet on Thursday\, September 12nd\, at 4:00 PM\, in celebration of their third studio location in Modesto. \nThis ceremony will be held at 5039 Pentecost Drive\, Suite B-2\, Modesto\, CA 95356 \nThis event is open to the public so please feel free to invite friends\, family\, and colleagues! We invite all attendees to stick around and network with staffers and other attendees after the ceremony. \nWe hope to see you there!
URL:https://www.modchamber.org/event/grand-opening-ceremony-central-west-ballet/
LOCATION:Central West Ballet\, 5039 Pentecost Dr B2\, Modesto\, CA\, 95356\, United States
CATEGORIES:Relationship Event
GEO:37.7125753;-121.0025509
X-APPLE-STRUCTURED-LOCATION;VALUE=URI;X-ADDRESS=Central West Ballet 5039 Pentecost Dr B2 Modesto CA 95356 United States;X-APPLE-RADIUS=500;X-TITLE=5039 Pentecost Dr B2:geo:-121.0025509,37.7125753
END:VEVENT
BEGIN:VEVENT
DTSTART;TZID=America/Los_Angeles:20240914T120000
DTEND;TZID=America/Los_Angeles:20240914T123000
DTSTAMP:20260425T101104
CREATED:20240906T211941Z
LAST-MODIFIED:20240906T223039Z
UID:10000899-1726315200-1726317000@www.modchamber.org
SUMMARY:Grand Opening - Vintage Faire Fit Body Boot Camp
DESCRIPTION:Hello Chamber friends and community partners\, \nPlease join us for a Dual Grand Opening Ceremony in honor of Vintage Faire Fit Body Boot Camp on Saturday September 14th\, at 12:00 PM\, in celebration of their services in Modesto. \nThis ceremony will be held at the 3600 Sisk Road #4A\, Modesto\, CA 95356 \n  \nThis event is open to the public so please feel free to invite friends\, family\, and colleagues! We invite all attendees to stick around and network with staffers and other attendees after the ceremony. \nWe hope to see you there!
URL:https://www.modchamber.org/event/grand-opening-vintage-faire-fit-body-boot-camp/
LOCATION:Vintage Faire Fit Body Camp\, Sisk Road\, Modesto\, CA\, 95356\, United States
CATEGORIES:Relationship Event
GEO:37.6901931;-121.0604731
X-APPLE-STRUCTURED-LOCATION;VALUE=URI;X-ADDRESS=Vintage Faire Fit Body Camp Sisk Road Modesto CA 95356 United States;X-APPLE-RADIUS=500;X-TITLE=Sisk Road:geo:-121.0604731,37.6901931
END:VEVENT
BEGIN:VEVENT
DTSTART;TZID=America/Los_Angeles:20240916T100000
DTEND;TZID=America/Los_Angeles:20240916T103000
DTSTAMP:20260425T101104
CREATED:20240906T212140Z
LAST-MODIFIED:20240906T222918Z
UID:10000900-1726480800-1726482600@www.modchamber.org
SUMMARY:Ribbon Cutting - Encompass Health Acute Rehabilitation Hospital of Modesto
DESCRIPTION:Hello Chamber friends and community partners\, \nPlease join us for a Ribbon Cutting Ceremony in honor of Encompass Health Acute Rehabilitation Hospital of Modesto on Monday September 16th\, at 10:00 AM\, in celebration of their services in Modesto. \nThis ceremony will be held at 1303 Mable Ave\, Modesto\, CA 95355 \nThis event is open to the public so please feel free to invite friends\, family\, and colleagues! We invite all attendees to stick around and network with staffers and other attendees after the ceremony. \nWe hope to see you there!
URL:https://www.modchamber.org/event/ribbon-cutting-encompass-health-acute-rehabilitation-hospital-of-modesto/
LOCATION:Encompass Health Acute Rehabilitation Hospital of Modesto\, Mable Avenue\, Modesto\, CA\, 95355\, United States
CATEGORIES:Relationship Event
GEO:37.6976955;-120.9758067
X-APPLE-STRUCTURED-LOCATION;VALUE=URI;X-ADDRESS=Encompass Health Acute Rehabilitation Hospital of Modesto Mable Avenue Modesto CA 95355 United States;X-APPLE-RADIUS=500;X-TITLE=Mable Avenue:geo:-120.9758067,37.6976955
END:VEVENT
BEGIN:VEVENT
DTSTART;TZID=America/Los_Angeles:20240917T170000
DTEND;TZID=America/Los_Angeles:20240917T183000
DTSTAMP:20260425T101104
CREATED:20240603T220232Z
LAST-MODIFIED:20240910T173708Z
UID:10000875-1726592400-1726597800@www.modchamber.org
SUMMARY:Women in Business Evening Social
DESCRIPTION:Join us for an inspiring evening at the Women in Business Evening Social! This event is designed to bring together women professionals from various industries to connect\, empower\, and support one another. It’s a perfect platform to share experiences\, build relationships\, and foster a strong community of women in business.\n  \nWhether you are an established professional\, a budding entrepreneur\, or looking to make new connections\, this event offers a welcoming and supportive environment for all.\n  \nKey Highlights: \n\nAppetizers Included: Enjoy a delightful selection of appetizers included with your registration fee.\nNetworking Opportunities: Engage with fellow women professionals and expand your professional network.\nBusiness Card Drawing: Bring your business card to enter our exciting prize drawing!\nOpen to All Women Professionals: All are welcome to attend\, but registration is required.\n\nRegister Here
URL:https://www.modchamber.org/event/women-in-business-evening-social-2/
LOCATION:825 W Roseburg Ave\, Modesto\, CA 95350\, West Roseburg Avenue\, Modesto\, CA\, 95350\, United States
CATEGORIES:Community Event,Relationship Event
ORGANIZER;CN="Felicia Lopez":MAILTO:flopez@modchamber.org
GEO:37.6603626;-121.0036828
X-APPLE-STRUCTURED-LOCATION;VALUE=URI;X-ADDRESS=825 W Roseburg Ave Modesto CA 95350 West Roseburg Avenue Modesto CA 95350 United States;X-APPLE-RADIUS=500;X-TITLE=West Roseburg Avenue:geo:-121.0036828,37.6603626
END:VEVENT
END:VCALENDAR