BEGIN:VCALENDAR
VERSION:2.0
PRODID:-//Modesto Chamber of Commerce - ECPv6.15.20//NONSGML v1.0//EN
CALSCALE:GREGORIAN
METHOD:PUBLISH
X-WR-CALNAME:Modesto Chamber of Commerce
X-ORIGINAL-URL:https://www.modchamber.org
X-WR-CALDESC:Events for Modesto Chamber of Commerce
REFRESH-INTERVAL;VALUE=DURATION:PT1H
X-Robots-Tag:noindex
X-PUBLISHED-TTL:PT1H
BEGIN:VTIMEZONE
TZID:America/Los_Angeles
BEGIN:DAYLIGHT
TZOFFSETFROM:-0800
TZOFFSETTO:-0700
TZNAME:PDT
DTSTART:20230312T100000
END:DAYLIGHT
BEGIN:STANDARD
TZOFFSETFROM:-0700
TZOFFSETTO:-0800
TZNAME:PST
DTSTART:20231105T090000
END:STANDARD
BEGIN:DAYLIGHT
TZOFFSETFROM:-0800
TZOFFSETTO:-0700
TZNAME:PDT
DTSTART:20240310T100000
END:DAYLIGHT
BEGIN:STANDARD
TZOFFSETFROM:-0700
TZOFFSETTO:-0800
TZNAME:PST
DTSTART:20241103T090000
END:STANDARD
BEGIN:DAYLIGHT
TZOFFSETFROM:-0800
TZOFFSETTO:-0700
TZNAME:PDT
DTSTART:20250309T100000
END:DAYLIGHT
BEGIN:STANDARD
TZOFFSETFROM:-0700
TZOFFSETTO:-0800
TZNAME:PST
DTSTART:20251102T090000
END:STANDARD
END:VTIMEZONE
BEGIN:VEVENT
DTSTART;TZID=America/Los_Angeles:20240801T173000
DTEND;TZID=America/Los_Angeles:20240801T193000
DTSTAMP:20260425T112639
CREATED:20240725T230843Z
LAST-MODIFIED:20240725T230843Z
UID:10000885-1722533400-1722540600@www.modchamber.org
SUMMARY:Multi-Chamber Mixer - Ceres
DESCRIPTION:Multi-Chamber Mixer  – Ceres\nAugust 1st 2024\n5:30 PM – 7:30 PM\nHoward Prep\nHoward Training Center\n1424 Stonum Rd\, Modesto\, CA 95351\n  \n  \nExciting Event Hosted by the Ceres Chamber of Commerce!\nJoin us for an unforgettable gathering hosted by the Ceres Chamber of Commerce\, where some of our amazing members will be bringing goodies and prizes! Enjoy delicious food provided by Raising Cane’s and Sourdough & Co.\, while Bronco Wine Company hosts a delightful wine bar and The Doghouse Taproom samples some of their favorite beers on tap. \nGet to know Howard Prep\,  as the showcase their impressive updates to their facilities and the wonderful programs they offer. \nIn addition to raffle prizes\, guests can participate in “Find the Guest” Bingo for a chance to win more exciting prizes. Each chamber will have a table and chairs with space to display information\, and we kindly ask that each chamber brings a raffle prize to contribute. \nThis event is free and open to the public. Don’t miss this opportunity to connect\, enjoy great food and drinks\, and celebrate our community’s accomplishments!
URL:https://www.modchamber.org/event/multi-chamber-mixer-ceres/
LOCATION:1424 Stonum Rd\, Modesto\, CA 95351\, Stonum Road\, Modesto\, CA\, 95351\, United States
CATEGORIES:Community Event,Relationship Event
ATTACH;FMTTYPE=image/jpeg:https://www.modchamber.org/wp-content/uploads/2024/07/ceres-chamber.jpg
ORGANIZER;CN="Felicia Lopez":MAILTO:flopez@modchamber.org
GEO:37.6100968;-120.9611318
X-APPLE-STRUCTURED-LOCATION;VALUE=URI;X-ADDRESS=1424 Stonum Rd Modesto CA 95351 Stonum Road Modesto CA 95351 United States;X-APPLE-RADIUS=500;X-TITLE=Stonum Road:geo:-120.9611318,37.6100968
END:VEVENT
BEGIN:VEVENT
DTSTART;TZID=America/Los_Angeles:20240806T160000
DTEND;TZID=America/Los_Angeles:20240806T180000
DTSTAMP:20260425T112639
CREATED:20240806T172346Z
LAST-MODIFIED:20240806T172346Z
UID:10000891-1722960000-1722967200@www.modchamber.org
SUMMARY:Grand Opening Ceremony - Golden Valley Health Centers Modesto Paradise Clinic
DESCRIPTION:Hello Chamber friends and community partners\, \n\nPlease join us for a Dual Grand Opening Ceremony in honor of Golden Valley Health Centers Modesto Paradise Clinic on Tuesday August 6th\, at 4:00 PM\, in celebration of their services in Modesto. \n\nThis ceremony will be held at the 401 Paradise Road\, Modesto\, CA 95351 \n  \nThis event is open to the public so please feel free to invite friends\, family\, and colleagues! We invite all attendees to stick around and network with staffers and other attendees after the ceremony. \n\nWe hope to see you there!
URL:https://www.modchamber.org/event/grand-opening-ceremony-golden-valley-health-centers-modesto-paradise-clinic/
LOCATION:GVHC Paradise Clinic\, Paradise Road\, Modesto\, CA\, 95351\, United States
CATEGORIES:Relationship Event
GEO:37.6281786;-121.0146333
X-APPLE-STRUCTURED-LOCATION;VALUE=URI;X-ADDRESS=GVHC Paradise Clinic Paradise Road Modesto CA 95351 United States;X-APPLE-RADIUS=500;X-TITLE=Paradise Road:geo:-121.0146333,37.6281786
END:VEVENT
BEGIN:VEVENT
DTSTART;TZID=America/Los_Angeles:20240809T133000
DTEND;TZID=America/Los_Angeles:20240809T140000
DTSTAMP:20260425T112639
CREATED:20240806T172609Z
LAST-MODIFIED:20240806T172630Z
UID:10000892-1723210200-1723212000@www.modchamber.org
SUMMARY:Ribbon Cutting - Stanislaus Arts Council Central California Art League
DESCRIPTION:Hello Chamber friends and community partners\, \nPlease join us for a Ribbon Cutting in honor of Stanislaus Arts Council Central California Art League on Friday August 9th\, at 1:30 PM\, in celebration of their services in Modesto. \nThis ceremony will be held at 1315 J St.\, Modesto\, CA 95354 \nThis event is open to the public so please feel free to invite friends\, family\, and colleagues! We invite all attendees to stick around and network with staffers and other attendees after the ceremony. \nWe hope to see you there!
URL:https://www.modchamber.org/event/ribbon-cutting-stanislaus-arts-council-central-california-art-league/
LOCATION:Stanislaus Art Council Central California Art League\, J Street\, Modesto\, CA\, 95354\, United States
CATEGORIES:Relationship Event
GEO:37.643184;-120.9970846
X-APPLE-STRUCTURED-LOCATION;VALUE=URI;X-ADDRESS=Stanislaus Art Council Central California Art League J Street Modesto CA 95354 United States;X-APPLE-RADIUS=500;X-TITLE=J Street:geo:-120.9970846,37.643184
END:VEVENT
BEGIN:VEVENT
DTSTART;TZID=America/Los_Angeles:20240813T170000
DTEND;TZID=America/Los_Angeles:20240813T183000
DTSTAMP:20260425T112639
CREATED:20240809T203909Z
LAST-MODIFIED:20240809T203909Z
UID:10000894-1723568400-1723573800@www.modchamber.org
SUMMARY:Rising Professionals Evening Social August
DESCRIPTION:Join us for the Rising Professionals Evening Mixer \nAugust 13th from 5:00pm – 6:30pm\n\nThis is a fantastic opportunity to network\, share ideas\, and connect with like-minded individuals in the business community. \nNetwork and Connect: Meet local business professionals\, entrepreneurs\, and potential mentors. \nDelicious Italian Cuisine: Enjoy authentic dishes where classic and contemporary flavors come together. \nProfessional Growth: Discover new opportunities for career development and business collaborations. \nSupport Small Business: Show your support for local enterprises and the Modesto Chamber of Commerce. Don’t miss out on an evening of growth and connection. \n  \nRegister HERE
URL:https://www.modchamber.org/event/rising-professionals-evening-social-august/
CATEGORIES:Community Event,Relationship Event
END:VEVENT
BEGIN:VEVENT
DTSTART;TZID=America/Los_Angeles:20240820T120000
DTEND;TZID=America/Los_Angeles:20240820T130000
DTSTAMP:20260425T112639
CREATED:20240809T210604Z
LAST-MODIFIED:20240809T210651Z
UID:10000895-1724155200-1724158800@www.modchamber.org
SUMMARY:Women in Business Lunch & Learn
DESCRIPTION:  \n  \n\nJoin us for an empowering Lunch and Learn session: “Canva: Transform Your Business – Tips for Marketing and Social Media” 🌟\n\n\n \n\n\n📅 Date: August 20th\, 2024\n\n\n🕛 Time: 12:00 PM – 1:00 PM\n\n\n📍 Location: Modesto Chamber of Commerce\, 1114 J St\, Modesto\, CA 95354\n\n\n \n\n\nDiscover how to harness the power of Canva to elevate your marketing and social media strategies. Whether you’re a small business owner or a professional looking to enhance your skills\, this session is for you!\n\n\n \n\n\nRegistration is required. Secure your spot now by registering HERE\n\n\n \n\n\nDon’t miss this opportunity to learn\, network\, and grow with like-minded women in business. We can’t wait to see you there!
URL:https://www.modchamber.org/event/women-in-business-lunch-learn-3/
CATEGORIES:Community Event,Relationship Event
END:VEVENT
BEGIN:VEVENT
DTSTART;TZID=America/Los_Angeles:20240822T163000
DTEND;TZID=America/Los_Angeles:20240822T183000
DTSTAMP:20260425T112639
CREATED:20240809T190016Z
LAST-MODIFIED:20240814T195347Z
UID:10000893-1724344200-1724351400@www.modchamber.org
SUMMARY:Welcome Reception for Stan State President Britt Rios-Ellis and Dr. Enrique Rios-Ellis
DESCRIPTION:August 22nd 2024\n4:30 PM – 6:30 PM\n  \nDel Rio Country Club \n801 Stewart Rd\, Modesto\, CA 95356 \n\nPlease join us for a Welcome Reception for Stan State President Britt Rios-Ellis and Dr. Enrique Rios-Ellis hosted by The Modesto Chamber of Commerce. \nThe Chamber is delighted to welcome Stan State President Britt Rios-Ellis\, M.S.\, Ph.D.\, and her husband Enrique Rios-Ellis\, DMA\, to the Modesto community. Join us to meet Britt and Enrique\, network with community members\, and celebrate our partnership with the University. \nRegistration is required\, free to the public. \nRegister HERE \n  \nSponsored by  \n  \n  
URL:https://www.modchamber.org/event/welcome-reception-for-stan-state-president-britt-rios-ellis-and-dr-enrique-rios-ellis/
LOCATION:Del Rio Country Club\, 801 Stewart Rd\, Modesto\, CA\, 95356
CATEGORIES:Community Event,Relationship Event
ORGANIZER;CN="Felicia Lopez":MAILTO:flopez@modchamber.org
GEO:37.7440611;-121.0046034
X-APPLE-STRUCTURED-LOCATION;VALUE=URI;X-ADDRESS=Del Rio Country Club 801 Stewart Rd Modesto CA 95356;X-APPLE-RADIUS=500;X-TITLE=801 Stewart Rd:geo:-121.0046034,37.7440611
END:VEVENT
END:VCALENDAR