BEGIN:VCALENDAR
VERSION:2.0
PRODID:-//Modesto Chamber of Commerce - ECPv6.15.20//NONSGML v1.0//EN
CALSCALE:GREGORIAN
METHOD:PUBLISH
X-ORIGINAL-URL:https://www.modchamber.org
X-WR-CALDESC:Events for Modesto Chamber of Commerce
REFRESH-INTERVAL;VALUE=DURATION:PT1H
X-Robots-Tag:noindex
X-PUBLISHED-TTL:PT1H
BEGIN:VTIMEZONE
TZID:America/Los_Angeles
BEGIN:DAYLIGHT
TZOFFSETFROM:-0800
TZOFFSETTO:-0700
TZNAME:PDT
DTSTART:20230312T100000
END:DAYLIGHT
BEGIN:STANDARD
TZOFFSETFROM:-0700
TZOFFSETTO:-0800
TZNAME:PST
DTSTART:20231105T090000
END:STANDARD
BEGIN:DAYLIGHT
TZOFFSETFROM:-0800
TZOFFSETTO:-0700
TZNAME:PDT
DTSTART:20240310T100000
END:DAYLIGHT
BEGIN:STANDARD
TZOFFSETFROM:-0700
TZOFFSETTO:-0800
TZNAME:PST
DTSTART:20241103T090000
END:STANDARD
BEGIN:DAYLIGHT
TZOFFSETFROM:-0800
TZOFFSETTO:-0700
TZNAME:PDT
DTSTART:20250309T100000
END:DAYLIGHT
BEGIN:STANDARD
TZOFFSETFROM:-0700
TZOFFSETTO:-0800
TZNAME:PST
DTSTART:20251102T090000
END:STANDARD
END:VTIMEZONE
BEGIN:VEVENT
DTSTART;TZID=America/Los_Angeles:20240603T103000
DTEND;TZID=America/Los_Angeles:20240603T110000
DTSTAMP:20260425T133812
CREATED:20240603T221047Z
LAST-MODIFIED:20240603T221047Z
UID:10000876-1717410600-1717412400@www.modchamber.org
SUMMARY:Ribbon Cutting Ceremony - Vintage Faire Mall & Visit Modesto Almond Blossom Photo Contest 2024 Winner
DESCRIPTION:Hello Chamber friends and community partners\, \n\nPlease join us for a Ribbon Cutting in honor of the newest Postcard Display featuring Almond Blossom Photo Contest 2024 Winner\, Jeremy Givens\, on Thursday\, June 6th\, at 10:30 AM. \n\nThis ceremony will be held at Vintage Faire Mall outside of Dick’s Sporting Goods \n  \nThis event is open to the public so please feel free to invite friends\, family\, and colleagues! We invite all attendees to stick around and network with staffers and other attendees after the ceremony. \n\nWe hope to see you there!
URL:https://www.modchamber.org/event/ribbon-cutting-ceremony-vintage-faire-mall-visit-modesto-almond-blossom-photo-contest-2024-winner/
LOCATION:Dicks Sporting Goods\, 3401 Dale Rd Ste 100\, Modesto\, CA\, 95356\, United States
CATEGORIES:Relationship Event
ORGANIZER;CN="Liz Rocha":MAILTO:lrochagomez@modchamber.org
GEO:37.6887133;-121.051941
X-APPLE-STRUCTURED-LOCATION;VALUE=URI;X-ADDRESS=Dicks Sporting Goods 3401 Dale Rd Ste 100 Modesto CA 95356 United States;X-APPLE-RADIUS=500;X-TITLE=3401 Dale Rd Ste 100:geo:-121.051941,37.6887133
END:VEVENT
BEGIN:VEVENT
DTSTART;TZID=America/Los_Angeles:20240613T153000
DTEND;TZID=America/Los_Angeles:20240613T164500
DTSTAMP:20260425T133812
CREATED:20240604T192217Z
LAST-MODIFIED:20240611T170417Z
UID:10000877-1718292600-1718297100@www.modchamber.org
SUMMARY:Ribbon Cutting Ceremony - Marrocova IT Solutions
DESCRIPTION:Hello Chamber friends and community partners\, \nPlease join us for a Ribbon Cutting in honor of Marrocova IT Solutions on Thursday June 13th\, at 3:30 PM\, in celebration of their services in Modesto. \nThis ceremony will be held at the Modesto Chamber of Commerce (1114 J St.\, Modesto\, CA 95354) \nThis event is open to the public so please feel free to invite friends\, family\, and colleagues! We invite all attendees to stick around and network with staffers and other attendees after the ceremony. \nWe hope to see you there!
URL:https://www.modchamber.org/event/ribbon-cutting-ceremony-marrocova-it-solutions/
LOCATION:Modesto Chamber of Commerce\, 1114 J Street\, Modesto\, CA\, 95354\, United States
CATEGORIES:Relationship Event
GEO:37.641396;-120.9988215
X-APPLE-STRUCTURED-LOCATION;VALUE=URI;X-ADDRESS=Modesto Chamber of Commerce 1114 J Street Modesto CA 95354 United States;X-APPLE-RADIUS=500;X-TITLE=1114 J Street:geo:-120.9988215,37.641396
END:VEVENT
END:VCALENDAR