BEGIN:VCALENDAR
VERSION:2.0
PRODID:-//Modesto Chamber of Commerce - ECPv6.15.20//NONSGML v1.0//EN
CALSCALE:GREGORIAN
METHOD:PUBLISH
X-WR-CALNAME:Modesto Chamber of Commerce
X-ORIGINAL-URL:https://www.modchamber.org
X-WR-CALDESC:Events for Modesto Chamber of Commerce
REFRESH-INTERVAL;VALUE=DURATION:PT1H
X-Robots-Tag:noindex
X-PUBLISHED-TTL:PT1H
BEGIN:VTIMEZONE
TZID:America/Los_Angeles
BEGIN:DAYLIGHT
TZOFFSETFROM:-0800
TZOFFSETTO:-0700
TZNAME:PDT
DTSTART:20230312T100000
END:DAYLIGHT
BEGIN:STANDARD
TZOFFSETFROM:-0700
TZOFFSETTO:-0800
TZNAME:PST
DTSTART:20231105T090000
END:STANDARD
BEGIN:DAYLIGHT
TZOFFSETFROM:-0800
TZOFFSETTO:-0700
TZNAME:PDT
DTSTART:20240310T100000
END:DAYLIGHT
BEGIN:STANDARD
TZOFFSETFROM:-0700
TZOFFSETTO:-0800
TZNAME:PST
DTSTART:20241103T090000
END:STANDARD
BEGIN:DAYLIGHT
TZOFFSETFROM:-0800
TZOFFSETTO:-0700
TZNAME:PDT
DTSTART:20250309T100000
END:DAYLIGHT
BEGIN:STANDARD
TZOFFSETFROM:-0700
TZOFFSETTO:-0800
TZNAME:PST
DTSTART:20251102T090000
END:STANDARD
END:VTIMEZONE
BEGIN:VEVENT
DTSTART;TZID=America/Los_Angeles:20240321T130000
DTEND;TZID=America/Los_Angeles:20240321T133000
DTSTAMP:20260425T170817
CREATED:20240319T160656Z
LAST-MODIFIED:20240319T161350Z
UID:10000858-1711026000-1711027800@www.modchamber.org
SUMMARY:Ribbon Cutting Ceremony - Star Staffing
DESCRIPTION:Hello Chamber friends and community partners\, \nPlease join us for a Grand Opening Ceremony in honor of Star Staffing on Thursday March 21st\, at 1:00 PM\, in celebration of their business in Modesto. \nThis ceremony will be held at 2900 Standiford Ave Suite 19\, Modesto\, CA 95356 \nPlease have all Certificates to read: \nStar Staffing \n  \nThis event is open to the public so please feel free to invite friends\, family\, and colleagues! We invite all attendees to stick around and network with staffers and other attendees after the ceremony. \nWe hope to see you there!
URL:https://www.modchamber.org/event/ribbon-cutting-ceremony-star-staffing/
LOCATION:Star Staffing\, 2900 Standiford Ave Suite 19\, Modesto\, CA\, 95356
CATEGORIES:Relationship Event
ORGANIZER;CN="Liz Rocha":MAILTO:lrochagomez@modchamber.org
GEO:37.6845532;-121.0497662
X-APPLE-STRUCTURED-LOCATION;VALUE=URI;X-ADDRESS=Star Staffing 2900 Standiford Ave Suite 19 Modesto CA 95356;X-APPLE-RADIUS=500;X-TITLE=2900 Standiford Ave Suite 19:geo:-121.0497662,37.6845532
END:VEVENT
BEGIN:VEVENT
DTSTART;TZID=America/Los_Angeles:20240321T170000
DTEND;TZID=America/Los_Angeles:20240321T183000
DTSTAMP:20260425T170817
CREATED:20240321T184714Z
LAST-MODIFIED:20240321T184715Z
UID:10000861-1711040400-1711045800@www.modchamber.org
SUMMARY:Mixer - Purpose-Built Trade Co.
DESCRIPTION:
URL:https://www.modchamber.org/event/mixer-purpose-built-trade-co/
LOCATION:Purpose-Built Trade Co.\, 3037 Sisk Rd. Suite F\, Modesto\, 95350\, United States
CATEGORIES:Relationship Event
GEO:37.6832264;-121.0510363
X-APPLE-STRUCTURED-LOCATION;VALUE=URI;X-ADDRESS=Purpose-Built Trade Co. 3037 Sisk Rd. Suite F Modesto 95350 United States;X-APPLE-RADIUS=500;X-TITLE=3037 Sisk Rd. Suite F:geo:-121.0510363,37.6832264
END:VEVENT
BEGIN:VEVENT
DTSTART;TZID=America/Los_Angeles:20240322T110000
DTEND;TZID=America/Los_Angeles:20240322T113000
DTSTAMP:20260425T170817
CREATED:20240319T161213Z
LAST-MODIFIED:20240319T161213Z
UID:10000859-1711105200-1711107000@www.modchamber.org
SUMMARY:Ribbon Cutting Ceremony - Urban Barber College
DESCRIPTION:Hello Chamber friends and community partners\, \n\nPlease join us for a Grand Opening Ceremony in honor of Urban Barber College on Friday March 22nd\, at 11:00 AM\, in celebration of their business in Modesto. \n\nThis ceremony will be held at 425 Maze Blvd\, Modesto\, CA 95351 \n\nPlease have all Certificates to read: \n\nUrban Barber College \n  \nThis event is open to the public so please feel free to invite friends\, family\, and colleagues! We invite all attendees to stick around and network with staffers and other attendees after the ceremony. \n\nWe hope to see you there!
URL:https://www.modchamber.org/event/ribbon-cutting-ceremony-urban-barber-college/
LOCATION:425\, 425 Maze Blvd\, Modesto\, CA\, 95351
CATEGORIES:Relationship Event
GEO:37.6383772;-121.0131286
X-APPLE-STRUCTURED-LOCATION;VALUE=URI;X-ADDRESS=425 425 Maze Blvd Modesto CA 95351;X-APPLE-RADIUS=500;X-TITLE=425 Maze Blvd:geo:-121.0131286,37.6383772
END:VEVENT
BEGIN:VEVENT
DTSTART;TZID=America/Los_Angeles:20240322T130000
DTEND;TZID=America/Los_Angeles:20240322T133000
DTSTAMP:20260425T170817
CREATED:20240319T161626Z
LAST-MODIFIED:20240319T161627Z
UID:10000860-1711112400-1711114200@www.modchamber.org
SUMMARY:Grand Opening Ribbon Cutting - Meeple Valley Board Game Cafe
DESCRIPTION:Hello Chamber friends and community partners\, \n\nPlease join us for a Grand Opening Ceremony in honor of Meeple Valley Board Game Café on Friday March 22nd\, at 1:00 AM\, in celebration of their business in Modesto. \n\nThis ceremony will be held at 115 Mark Randy Pl Suite A\, Modesto\, CA 95350 \n\nPlease have all Certificates to read: \n\nMeeple Valley Board Game Café \n  \nThis event is open to the public so please feel free to invite friends\, family\, and colleagues! We invite all attendees to stick around and network with staffers and other attendees after the ceremony. \n\nWe hope to see you there!
URL:https://www.modchamber.org/event/grand-opening-ribbon-cutting-meeple-valley-board-game-cafe/
LOCATION:Meeple Valley Board Game Cafe\, 115 Mark Randy Pl Suite A\, Modesto\, CA\, 95350
CATEGORIES:Relationship Event
ORGANIZER;CN="Liz Rocha":MAILTO:lrochagomez@modchamber.org
GEO:37.6756089;-120.9931394
X-APPLE-STRUCTURED-LOCATION;VALUE=URI;X-ADDRESS=Meeple Valley Board Game Cafe 115 Mark Randy Pl Suite A Modesto CA 95350;X-APPLE-RADIUS=500;X-TITLE=115 Mark Randy Pl Suite A:geo:-120.9931394,37.6756089
END:VEVENT
BEGIN:VEVENT
DTSTART;TZID=America/Los_Angeles:20240327T163000
DTEND;TZID=America/Los_Angeles:20240327T183000
DTSTAMP:20260425T170817
CREATED:20240321T191057Z
LAST-MODIFIED:20240321T191235Z
UID:10000863-1711557000-1711564200@www.modchamber.org
SUMMARY:Presidents Tier Circle of Influence Networking Social 2024
DESCRIPTION:  \nJoin us for a prestigious evening at our exclusive Circle of Influence Networking Social\, specifically and exclusively designed for members of the Presidents Tier.\n  \nMarch 27th 2024\n\n4:30pm – 6:30pm\n\nGallo Center for the Arts\, 1000 I St\, Modesto\, CA 95354\n  \nThis event gathers influential leaders for an unmatched networking experience\, offering a distinct platform for Presidents Tier members to connect\, exchange insights\, and cultivate enduring professional relationships. Don’t miss this opportunity to elevate your network and enhance your professional connections. To secure your spot\, contact \nLiz at lrochagomez@modchamber.org for registration.
URL:https://www.modchamber.org/event/presidents-tier-networking-social-2/
LOCATION:Gallo Center for the Arts\, 1000 I Street\, Modesto\, CA\, 95354\, United States
CATEGORIES:Community Event,Relationship Event
ORGANIZER;CN="Felicia Lopez":MAILTO:flopez@modchamber.org
GEO:37.6393581;-120.9983415
X-APPLE-STRUCTURED-LOCATION;VALUE=URI;X-ADDRESS=Gallo Center for the Arts 1000 I Street Modesto CA 95354 United States;X-APPLE-RADIUS=500;X-TITLE=1000 I Street:geo:-120.9983415,37.6393581
END:VEVENT
END:VCALENDAR