BEGIN:VCALENDAR
VERSION:2.0
PRODID:-//Modesto Chamber of Commerce - ECPv6.15.20//NONSGML v1.0//EN
CALSCALE:GREGORIAN
METHOD:PUBLISH
X-WR-CALNAME:Modesto Chamber of Commerce
X-ORIGINAL-URL:https://www.modchamber.org
X-WR-CALDESC:Events for Modesto Chamber of Commerce
REFRESH-INTERVAL;VALUE=DURATION:PT1H
X-Robots-Tag:noindex
X-PUBLISHED-TTL:PT1H
BEGIN:VTIMEZONE
TZID:America/Los_Angeles
BEGIN:DAYLIGHT
TZOFFSETFROM:-0800
TZOFFSETTO:-0700
TZNAME:PDT
DTSTART:20230312T100000
END:DAYLIGHT
BEGIN:STANDARD
TZOFFSETFROM:-0700
TZOFFSETTO:-0800
TZNAME:PST
DTSTART:20231105T090000
END:STANDARD
BEGIN:DAYLIGHT
TZOFFSETFROM:-0800
TZOFFSETTO:-0700
TZNAME:PDT
DTSTART:20240310T100000
END:DAYLIGHT
BEGIN:STANDARD
TZOFFSETFROM:-0700
TZOFFSETTO:-0800
TZNAME:PST
DTSTART:20241103T090000
END:STANDARD
BEGIN:DAYLIGHT
TZOFFSETFROM:-0800
TZOFFSETTO:-0700
TZNAME:PDT
DTSTART:20250309T100000
END:DAYLIGHT
BEGIN:STANDARD
TZOFFSETFROM:-0700
TZOFFSETTO:-0800
TZNAME:PST
DTSTART:20251102T090000
END:STANDARD
END:VTIMEZONE
BEGIN:VEVENT
DTSTART;TZID=America/Los_Angeles:20240104T000000
DTEND;TZID=America/Los_Angeles:20240104T123000
DTSTAMP:20260425T194000
CREATED:20240103T192706Z
LAST-MODIFIED:20240103T192706Z
UID:10000845-1704326400-1704371400@www.modchamber.org
SUMMARY:Ribbon Cutting - Divine Cleaning
DESCRIPTION:Hello Chamber friends and community partners\, \n\nPlease join us for a Ribbon Cutting Ceremony in honor of our member Divine Cleaning on Thursday January 4th\, at 12:00 PM\, in celebration of their services in Modesto. \n\nThis ceremony will be held at 931 10th Street\, Modesto\, CA 95354 \n\n\nThis event is open to the public so please feel free to invite friends\, family\, and colleagues! We invite all attendees to stick around and network with staffers and other attendees after the ceremony. \n\nWe hope to see you there! \n\nThank you!
URL:https://www.modchamber.org/event/ribbon-cutting-divine-cleaning/
LOCATION:931 10th St\, Modesto\, CA 95354\, 931 10th St\, Modesto\, CA\, 95354
CATEGORIES:Relationship Event
ORGANIZER;CN="Liz Rocha":MAILTO:lrochagomez@modchamber.org
GEO:37.6398548;-121.0000666
X-APPLE-STRUCTURED-LOCATION;VALUE=URI;X-ADDRESS=931 10th St Modesto CA 95354 931 10th St Modesto CA 95354;X-APPLE-RADIUS=500;X-TITLE=931 10th St:geo:-121.0000666,37.6398548
END:VEVENT
BEGIN:VEVENT
DTSTART;TZID=America/Los_Angeles:20240109T133000
DTEND;TZID=America/Los_Angeles:20240109T143000
DTSTAMP:20260425T194000
CREATED:20240109T194223Z
LAST-MODIFIED:20240103T194542Z
UID:10000846-1704807000-1704810600@www.modchamber.org
SUMMARY:Ribbon Cutting Ceremony - Day Center
DESCRIPTION:Hello Chamber friends and community partners\, \nPlease join us for a Ribbon Cutting Ceremony in honor of Day Center on Tuesday January 9th\, at 1:30 PM\, in celebration of their services in Modesto. \nThis ceremony will be held at 301 10th Street\, Modesto\, CA 95354 \nThis event is open to the public so please feel free to invite friends\, family\, and colleagues! We invite all attendees to stick around and network with staffers and other attendees after the ceremony. \nWe hope to see you there! \nThank you!
URL:https://www.modchamber.org/event/ribbon-cutting-ceremony-day-center/
LOCATION:301 10th Street\, Modesto\, CA 95354\, 301 10th Street\, Modesto\, CA\, 95354
CATEGORIES:Relationship Event
GEO:37.6337674;-120.9926957
X-APPLE-STRUCTURED-LOCATION;VALUE=URI;X-ADDRESS=301 10th Street Modesto CA 95354 301 10th Street Modesto CA 95354;X-APPLE-RADIUS=500;X-TITLE=301 10th Street:geo:-120.9926957,37.6337674
END:VEVENT
BEGIN:VEVENT
DTSTART;TZID=America/Los_Angeles:20240111T110000
DTEND;TZID=America/Los_Angeles:20240111T113000
DTSTAMP:20260425T194000
CREATED:20240103T194806Z
LAST-MODIFIED:20240103T194806Z
UID:10000847-1704970800-1704972600@www.modchamber.org
SUMMARY:Ribbon Cutting - Shop Greater Modesto
DESCRIPTION:Hello Chamber friends and community partners\, \n\nPlease join us for a Ribbon Cutting Ceremony in honor of Shop Greater Modesto\, CA on Thursday January 11th\, at 11:00 AM\, in celebration of the launch of our online marketplace designed to champion our thriving local businesses. \n\nThis ceremony will be held at 1114 J St\, Modesto\, CA 95354 \n\nThis event is open to the public so please feel free to invite friends and family! We invite all attendees to stick around after the ceremony. \n\nWe hope to see you there! \n\nThank you!~
URL:https://www.modchamber.org/event/ribbon-cutting-shop-greater-modesto/
LOCATION:Modesto Chamber of Commerce\, 1114 J Street\, Modesto\, CA\, 95354\, United States
CATEGORIES:Relationship Event
GEO:37.641396;-120.9988215
X-APPLE-STRUCTURED-LOCATION;VALUE=URI;X-ADDRESS=Modesto Chamber of Commerce 1114 J Street Modesto CA 95354 United States;X-APPLE-RADIUS=500;X-TITLE=1114 J Street:geo:-120.9988215,37.641396
END:VEVENT
BEGIN:VEVENT
DTSTART;TZID=America/Los_Angeles:20240125T173000
DTEND;TZID=America/Los_Angeles:20240125T203000
DTSTAMP:20260425T194000
CREATED:20231129T193303Z
LAST-MODIFIED:20240104T221937Z
UID:10000842-1706203800-1706214600@www.modchamber.org
SUMMARY:110th Members Choice Awards & Anniversaries Soiree
DESCRIPTION:It is with great anticipation and excitement that we invite you to join us Thursday\, January 25\, 2024\, as we celebrate some of Modesto’s finest businesses and individuals at the 110th Annual Member Choice Awards and Anniversaries Soirée hosted at the Modesto Centre Plaza.  \nThis event is immersed in rich tradition and history of over 110 years. The awards presented are given with input from our members and community partners. The evening will recognize outstanding businesses and individuals who have a positive influence and impact in the greater Modesto area. \nTake a culinary tour of the best of the best Modesto has to offer from one of many local restaurant hosts. Attendees will enjoy top shelf entertainment\, presentations and much more. We hope this event is a night to be remember as we gather and celebrate our amazing community. \nMembers Choice nominations close\, January 5th\, 2024. \nSponsorships and tickets sales have begun… The forms to become a sponsor and to purchase your individual tickets are located on our website at also attached. \nBe aware – to be included in the program\, sponsorships must be paid and turned in to us no later than January 16th\, 2024. \nPLEASE NOTE – This is a ticketed event. You must have a paid ticket in hand\, or a paid reservation with your name on our guest list\, to enter \nFor nomination information please click HERE  \nTo register of sponsoring this amazing event please click HERE. 
URL:https://www.modchamber.org/event/110th-members-choice-awards-anniversaries-soiree/
CATEGORIES:Community Event,Relationship Event
ATTACH;FMTTYPE=image/jpeg:https://www.modchamber.org/wp-content/uploads/2023/11/Soiree_Page_1.jpg
END:VEVENT
END:VCALENDAR