BEGIN:VCALENDAR
VERSION:2.0
PRODID:-//Modesto Chamber of Commerce - ECPv6.15.20//NONSGML v1.0//EN
CALSCALE:GREGORIAN
METHOD:PUBLISH
X-WR-CALNAME:Modesto Chamber of Commerce
X-ORIGINAL-URL:https://www.modchamber.org
X-WR-CALDESC:Events for Modesto Chamber of Commerce
REFRESH-INTERVAL;VALUE=DURATION:PT1H
X-Robots-Tag:noindex
X-PUBLISHED-TTL:PT1H
BEGIN:VTIMEZONE
TZID:America/Los_Angeles
BEGIN:DAYLIGHT
TZOFFSETFROM:-0800
TZOFFSETTO:-0700
TZNAME:PDT
DTSTART:20230312T100000
END:DAYLIGHT
BEGIN:STANDARD
TZOFFSETFROM:-0700
TZOFFSETTO:-0800
TZNAME:PST
DTSTART:20231105T090000
END:STANDARD
BEGIN:DAYLIGHT
TZOFFSETFROM:-0800
TZOFFSETTO:-0700
TZNAME:PDT
DTSTART:20240310T100000
END:DAYLIGHT
BEGIN:STANDARD
TZOFFSETFROM:-0700
TZOFFSETTO:-0800
TZNAME:PST
DTSTART:20241103T090000
END:STANDARD
BEGIN:DAYLIGHT
TZOFFSETFROM:-0800
TZOFFSETTO:-0700
TZNAME:PDT
DTSTART:20250309T100000
END:DAYLIGHT
BEGIN:STANDARD
TZOFFSETFROM:-0700
TZOFFSETTO:-0800
TZNAME:PST
DTSTART:20251102T090000
END:STANDARD
END:VTIMEZONE
BEGIN:VEVENT
DTSTART;TZID=America/Los_Angeles:20240518T090000
DTEND;TZID=America/Los_Angeles:20240518T150000
DTSTAMP:20260419T064429
CREATED:20240430T000249Z
LAST-MODIFIED:20240430T170536Z
UID:10000870-1716022800-1716044400@www.modchamber.org
SUMMARY:Members Market Day - A Modesto Chamber of Commerce Members POP-UP
DESCRIPTION:  \nJoin us for a vibrant and exciting day at the Modesto Chamber Members Market Day\, hosted at Audi of Modesto. This is an incredible opportunity for businesses to shine\, whether you want to showcase your unique offerings\, promote your services\, or sell your products. Registration is now open for booth reservations\, providing you with an 8×10 space to connect with the community and potential customers. We also welcome food vendors to tantalize taste buds with delicious treats – for inquiries\, simply email flopez@modchamber.org. \n\nThis event is open to the public and free to attend\, offering a fantastic chance for the community to come together and support local businesses. Don’t miss your opportunity to explore the creativity of local crafters\, discover valuable community services\, and show your support for the thriving businesses in Modesto. Join us for a day of connection\, commerce\, and community spirit!\n  \nMembers Register HERE!
URL:https://www.modchamber.org/event/6990/
LOCATION:CA
CATEGORIES:Community Event,Relationship Event,Service Event
ORGANIZER;CN="Felicia Lopez":MAILTO:flopez@modchamber.org
END:VEVENT
END:VCALENDAR