BEGIN:VCALENDAR
VERSION:2.0
PRODID:-//Modesto Chamber of Commerce - ECPv6.15.20//NONSGML v1.0//EN
CALSCALE:GREGORIAN
METHOD:PUBLISH
X-ORIGINAL-URL:https://www.modchamber.org
X-WR-CALDESC:Events for Modesto Chamber of Commerce
REFRESH-INTERVAL;VALUE=DURATION:PT1H
X-Robots-Tag:noindex
X-PUBLISHED-TTL:PT1H
BEGIN:VTIMEZONE
TZID:America/Los_Angeles
BEGIN:DAYLIGHT
TZOFFSETFROM:-0800
TZOFFSETTO:-0700
TZNAME:PDT
DTSTART:20230312T100000
END:DAYLIGHT
BEGIN:STANDARD
TZOFFSETFROM:-0700
TZOFFSETTO:-0800
TZNAME:PST
DTSTART:20231105T090000
END:STANDARD
BEGIN:DAYLIGHT
TZOFFSETFROM:-0800
TZOFFSETTO:-0700
TZNAME:PDT
DTSTART:20240310T100000
END:DAYLIGHT
BEGIN:STANDARD
TZOFFSETFROM:-0700
TZOFFSETTO:-0800
TZNAME:PST
DTSTART:20241103T090000
END:STANDARD
BEGIN:DAYLIGHT
TZOFFSETFROM:-0800
TZOFFSETTO:-0700
TZNAME:PDT
DTSTART:20250309T100000
END:DAYLIGHT
BEGIN:STANDARD
TZOFFSETFROM:-0700
TZOFFSETTO:-0800
TZNAME:PST
DTSTART:20251102T090000
END:STANDARD
END:VTIMEZONE
BEGIN:VEVENT
DTSTART;TZID=America/Los_Angeles:20240506T113000
DTEND;TZID=America/Los_Angeles:20240506T130000
DTSTAMP:20260419T064527
CREATED:20240429T235950Z
LAST-MODIFIED:20240429T235950Z
UID:10000869-1714995000-1715000400@www.modchamber.org
SUMMARY:CTE Educates Industry - A Career Technical Education Skills Showcase
DESCRIPTION:  \nCalling all community champions!  Join us for an unforgettable event\, where we shine the spotlight on the incredible skills and talents cultivated by the exceptional students of Modesto City High School!\n  \nAt this special occasion\, we’re not just celebrating achievements; we’re championing the value of Career Technical Education (CTE) pathways in high schools. Get ready to be captivated as we unveil a showcase of remarkable skills and accomplishments from CTE students within the Modesto City School District. From the dynamic realms of Business and Marketing to the vibrant arenas of Arts\, Media\, and Entertainment\, these pathways are forging the future leaders of our community. \nOur CTE Educates Industry Luncheon isn’t your average gathering—it’s a convergence of education and industry\, a celebration of collaboration and innovation. Together\, we’ll explore how these pathways are not only shaping the trajectory of individual careers but also propelling the progress and prosperity of our beloved community. \nJoin us on May 6th\, 2024\, from 11:30 AM to 1:00 PM\, at the Stanislaus County Office of Education\, Chatom Room (1100 H Street\, Modesto\, CA 95354). This is your chance to witness firsthand the talent\, dedication\, and passion of our students—a testament to the power of education in transforming lives and building a brighter future for all. \nMark your calendars\, spread the word\, and let’s come together to celebrate\, inspire\, and empower! \n  \nREGISTER HERE
URL:https://www.modchamber.org/event/cte-educates-industry-a-career-technical-education-skills-showcase/
LOCATION:CA
CATEGORIES:Community Event,Education Event
ORGANIZER;CN="Felicia Lopez":MAILTO:flopez@modchamber.org
END:VEVENT
END:VCALENDAR