BEGIN:VCALENDAR
VERSION:2.0
PRODID:-//Modesto Chamber of Commerce - ECPv6.15.20//NONSGML v1.0//EN
CALSCALE:GREGORIAN
METHOD:PUBLISH
X-WR-CALNAME:Modesto Chamber of Commerce
X-ORIGINAL-URL:https://www.modchamber.org
X-WR-CALDESC:Events for Modesto Chamber of Commerce
REFRESH-INTERVAL;VALUE=DURATION:PT1H
X-Robots-Tag:noindex
X-PUBLISHED-TTL:PT1H
BEGIN:VTIMEZONE
TZID:America/Los_Angeles
BEGIN:DAYLIGHT
TZOFFSETFROM:-0800
TZOFFSETTO:-0700
TZNAME:PDT
DTSTART:20230312T100000
END:DAYLIGHT
BEGIN:STANDARD
TZOFFSETFROM:-0700
TZOFFSETTO:-0800
TZNAME:PST
DTSTART:20231105T090000
END:STANDARD
BEGIN:DAYLIGHT
TZOFFSETFROM:-0800
TZOFFSETTO:-0700
TZNAME:PDT
DTSTART:20240310T100000
END:DAYLIGHT
BEGIN:STANDARD
TZOFFSETFROM:-0700
TZOFFSETTO:-0800
TZNAME:PST
DTSTART:20241103T090000
END:STANDARD
BEGIN:DAYLIGHT
TZOFFSETFROM:-0800
TZOFFSETTO:-0700
TZNAME:PDT
DTSTART:20250309T100000
END:DAYLIGHT
BEGIN:STANDARD
TZOFFSETFROM:-0700
TZOFFSETTO:-0800
TZNAME:PST
DTSTART:20251102T090000
END:STANDARD
END:VTIMEZONE
BEGIN:VEVENT
DTSTART;TZID=America/Los_Angeles:20240425T113000
DTEND;TZID=America/Los_Angeles:20240425T130000
DTSTAMP:20260419T080617
CREATED:20240321T184808Z
LAST-MODIFIED:20240321T184808Z
UID:10000862-1714044600-1714050000@www.modchamber.org
SUMMARY:27th Annual Ag Aware
DESCRIPTION:“Learning to do\, doing to learn\, earning to live\, living to serve!” \n\n  \nJoin us for the 27th annual Ag Aware Luncheon\, the premier agricultural fundraiser dedicated to empowering local FFA high school students! Immerse yourself in the vibrant world of agriculture and be part of the excitement of championing our future industry trailblazers. This event promises a delicious meal\, lively conversations\, and inspiring stories shared by the future leaders of our community. \n\nEvent Highlights:\n\nKey Note Speaker: Dr. Amrith Gunasekara – Director of Science and Research at the California Bountiful Foundation.\n\nSupport Education: Hear from current students and how they have been positively impacted by being in FFA.\n\nFFA Student Projects: See first hand the hard work of students\, and have the opportunity to take home a project.\n  \n  \nDon’t Miss the Chance to Make a Difference! \n\nSeize the opportunity to be a part of Ag Aware and contribute to the growth and success of our local FFA students. Your presence matters\, your support counts. Join us for an unforgettable experience at Ag Aware – where agriculture meets inspiration! \n  \nSponsorship opportunities available HERE
URL:https://www.modchamber.org/event/27th-annual-ag-aware/
LOCATION:Modesto Junion College Ace Pavilion\, 2201 Blue Gum Avenue\, Modesto\, CA\, United States
CATEGORIES:Community Event,Education Event
ORGANIZER;CN="Felicia Lopez":MAILTO:flopez@modchamber.org
GEO:37.6627211;-121.0354933
X-APPLE-STRUCTURED-LOCATION;VALUE=URI;X-ADDRESS=Modesto Junion College Ace Pavilion 2201 Blue Gum Avenue Modesto CA United States;X-APPLE-RADIUS=500;X-TITLE=2201 Blue Gum Avenue:geo:-121.0354933,37.6627211
END:VEVENT
END:VCALENDAR