BEGIN:VCALENDAR
VERSION:2.0
PRODID:-//Modesto Chamber of Commerce - ECPv6.15.20//NONSGML v1.0//EN
CALSCALE:GREGORIAN
METHOD:PUBLISH
X-ORIGINAL-URL:https://www.modchamber.org
X-WR-CALDESC:Events for Modesto Chamber of Commerce
REFRESH-INTERVAL;VALUE=DURATION:PT1H
X-Robots-Tag:noindex
X-PUBLISHED-TTL:PT1H
BEGIN:VTIMEZONE
TZID:America/Los_Angeles
BEGIN:DAYLIGHT
TZOFFSETFROM:-0800
TZOFFSETTO:-0700
TZNAME:PDT
DTSTART:20230312T100000
END:DAYLIGHT
BEGIN:STANDARD
TZOFFSETFROM:-0700
TZOFFSETTO:-0800
TZNAME:PST
DTSTART:20231105T090000
END:STANDARD
BEGIN:DAYLIGHT
TZOFFSETFROM:-0800
TZOFFSETTO:-0700
TZNAME:PDT
DTSTART:20240310T100000
END:DAYLIGHT
BEGIN:STANDARD
TZOFFSETFROM:-0700
TZOFFSETTO:-0800
TZNAME:PST
DTSTART:20241103T090000
END:STANDARD
BEGIN:DAYLIGHT
TZOFFSETFROM:-0800
TZOFFSETTO:-0700
TZNAME:PDT
DTSTART:20250309T100000
END:DAYLIGHT
BEGIN:STANDARD
TZOFFSETFROM:-0700
TZOFFSETTO:-0800
TZNAME:PST
DTSTART:20251102T090000
END:STANDARD
END:VTIMEZONE
BEGIN:VEVENT
DTSTART;TZID=America/Los_Angeles:20240327T163000
DTEND;TZID=America/Los_Angeles:20240327T183000
DTSTAMP:20260419T093030
CREATED:20240321T191057Z
LAST-MODIFIED:20240321T191235Z
UID:10000863-1711557000-1711564200@www.modchamber.org
SUMMARY:Presidents Tier Circle of Influence Networking Social 2024
DESCRIPTION:  \nJoin us for a prestigious evening at our exclusive Circle of Influence Networking Social\, specifically and exclusively designed for members of the Presidents Tier.\n  \nMarch 27th 2024\n\n4:30pm – 6:30pm\n\nGallo Center for the Arts\, 1000 I St\, Modesto\, CA 95354\n  \nThis event gathers influential leaders for an unmatched networking experience\, offering a distinct platform for Presidents Tier members to connect\, exchange insights\, and cultivate enduring professional relationships. Don’t miss this opportunity to elevate your network and enhance your professional connections. To secure your spot\, contact \nLiz at lrochagomez@modchamber.org for registration.
URL:https://www.modchamber.org/event/presidents-tier-networking-social-2/
LOCATION:Gallo Center for the Arts\, 1000 I Street\, Modesto\, CA\, 95354\, United States
CATEGORIES:Community Event,Relationship Event
ORGANIZER;CN="Felicia Lopez":MAILTO:flopez@modchamber.org
GEO:37.6393581;-120.9983415
X-APPLE-STRUCTURED-LOCATION;VALUE=URI;X-ADDRESS=Gallo Center for the Arts 1000 I Street Modesto CA 95354 United States;X-APPLE-RADIUS=500;X-TITLE=1000 I Street:geo:-120.9983415,37.6393581
END:VEVENT
END:VCALENDAR