BEGIN:VCALENDAR
VERSION:2.0
PRODID:-//Modesto Chamber of Commerce - ECPv6.15.20//NONSGML v1.0//EN
CALSCALE:GREGORIAN
METHOD:PUBLISH
X-ORIGINAL-URL:https://www.modchamber.org
X-WR-CALDESC:Events for Modesto Chamber of Commerce
REFRESH-INTERVAL;VALUE=DURATION:PT1H
X-Robots-Tag:noindex
X-PUBLISHED-TTL:PT1H
BEGIN:VTIMEZONE
TZID:America/Los_Angeles
BEGIN:DAYLIGHT
TZOFFSETFROM:-0800
TZOFFSETTO:-0700
TZNAME:PDT
DTSTART:20230312T100000
END:DAYLIGHT
BEGIN:STANDARD
TZOFFSETFROM:-0700
TZOFFSETTO:-0800
TZNAME:PST
DTSTART:20231105T090000
END:STANDARD
BEGIN:DAYLIGHT
TZOFFSETFROM:-0800
TZOFFSETTO:-0700
TZNAME:PDT
DTSTART:20240310T100000
END:DAYLIGHT
BEGIN:STANDARD
TZOFFSETFROM:-0700
TZOFFSETTO:-0800
TZNAME:PST
DTSTART:20241103T090000
END:STANDARD
BEGIN:DAYLIGHT
TZOFFSETFROM:-0800
TZOFFSETTO:-0700
TZNAME:PDT
DTSTART:20250309T100000
END:DAYLIGHT
BEGIN:STANDARD
TZOFFSETFROM:-0700
TZOFFSETTO:-0800
TZNAME:PST
DTSTART:20251102T090000
END:STANDARD
END:VTIMEZONE
BEGIN:VEVENT
DTSTART;TZID=America/Los_Angeles:20240220T120000
DTEND;TZID=America/Los_Angeles:20240220T130000
DTSTAMP:20260419T104317
CREATED:20240207T192341Z
LAST-MODIFIED:20240207T192341Z
UID:10000856-1708430400-1708434000@www.modchamber.org
SUMMARY:Women in Business - Lunch and Learn
DESCRIPTION:February 20th\,2024\n12:00 PM – 1:00 PM\n1114 JST MODESTO\,CA 95354\n  \nWelcome to an exclusive event hosted by the Modesto Chamber of Commerce\, designed to empower and connect women in business. Join us for a captivating Lunch and Learn session featuring distinguished guest speaker: Lourdes Uranday\, MBA-HRM Founder of Lourdes Uranday Consulting\n  \n\n  \nTopic: “Unveiling Networking Strategies for Women in Business”\nDiscover the art of successful networking as Lourdes Uranday shares her expertise. Gain insights into:\n\nBuilding a robust professional network\nNavigating the intricate world of business connections\nCreating a supportive community of like-minded professionals\n\nWhy Attend?\n\nConnect with an inspiring community of women in business\nGain practical networking techniques\nElevate your professional circle to new heights\n\n\nDon’t Miss Out:\nThis is your chance to learn\, network\, and grow. Join us on February 20th for an empowering Women in Business Lunch and Learn event. Seize the opportunity to enhance your skills and enjoy a delightful lunch in the heart of Modesto.\n  \nRegistration Required – Includes Lunch \nSecure your spot for this enriching experience. Registration is mandatory\, and covers a delicious lunch. \nRegister HERE 
URL:https://www.modchamber.org/event/women-in-business-lunch-and-learn/
LOCATION:Modesto Chamber of Commerce\, 1114 J Street\, Modesto\, CA\, 95354\, United States
CATEGORIES:Community Event,Education Event,Relationship Event,Service Event
ORGANIZER;CN="Felicia Lopez":MAILTO:flopez@modchamber.org
GEO:37.641396;-120.9988215
X-APPLE-STRUCTURED-LOCATION;VALUE=URI;X-ADDRESS=Modesto Chamber of Commerce 1114 J Street Modesto CA 95354 United States;X-APPLE-RADIUS=500;X-TITLE=1114 J Street:geo:-120.9988215,37.641396
END:VEVENT
END:VCALENDAR