BEGIN:VCALENDAR
VERSION:2.0
PRODID:-//Modesto Chamber of Commerce - ECPv6.15.20//NONSGML v1.0//EN
CALSCALE:GREGORIAN
METHOD:PUBLISH
X-ORIGINAL-URL:https://www.modchamber.org
X-WR-CALDESC:Events for Modesto Chamber of Commerce
REFRESH-INTERVAL;VALUE=DURATION:PT1H
X-Robots-Tag:noindex
X-PUBLISHED-TTL:PT1H
BEGIN:VTIMEZONE
TZID:America/Los_Angeles
BEGIN:DAYLIGHT
TZOFFSETFROM:-0800
TZOFFSETTO:-0700
TZNAME:PDT
DTSTART:20230312T100000
END:DAYLIGHT
BEGIN:STANDARD
TZOFFSETFROM:-0700
TZOFFSETTO:-0800
TZNAME:PST
DTSTART:20231105T090000
END:STANDARD
BEGIN:DAYLIGHT
TZOFFSETFROM:-0800
TZOFFSETTO:-0700
TZNAME:PDT
DTSTART:20240310T100000
END:DAYLIGHT
BEGIN:STANDARD
TZOFFSETFROM:-0700
TZOFFSETTO:-0800
TZNAME:PST
DTSTART:20241103T090000
END:STANDARD
BEGIN:DAYLIGHT
TZOFFSETFROM:-0800
TZOFFSETTO:-0700
TZNAME:PDT
DTSTART:20250309T100000
END:DAYLIGHT
BEGIN:STANDARD
TZOFFSETFROM:-0700
TZOFFSETTO:-0800
TZNAME:PST
DTSTART:20251102T090000
END:STANDARD
END:VTIMEZONE
BEGIN:VEVENT
DTSTART;TZID=America/Los_Angeles:20240404T173000
DTEND;TZID=America/Los_Angeles:20240404T193000
DTSTAMP:20260419T064318
CREATED:20240327T195909Z
LAST-MODIFIED:20240327T195909Z
UID:10000866-1712251800-1712259000@www.modchamber.org
SUMMARY:Multi-Chamber Mixer
DESCRIPTION:
URL:https://www.modchamber.org/event/multi-chamber-mixer-3/
LOCATION:CA
CATEGORIES:Community Event,Relationship Event
END:VEVENT
BEGIN:VEVENT
DTSTART;TZID=America/Los_Angeles:20240409T080000
DTEND;TZID=America/Los_Angeles:20240409T090000
DTSTAMP:20260419T064318
CREATED:20240321T193244Z
LAST-MODIFIED:20240321T193333Z
UID:10000864-1712649600-1712653200@www.modchamber.org
SUMMARY:Rise and Shine with CEO's
DESCRIPTION:  \nApril 9th\, 2024 – 8:00 am – 9:00 am \n\n  \nDon’t miss out on this exceptional opportunity to rise and shine with CEOs at the Modesto Chamber of Commerce Breakfast Leadership Panel\, brought to you by the Rising Professionals Program.  \nAbout the Rising Professionals Program: The Rising Professionals Program\, an initiative under the esteemed Greater Modesto Chamber of Commerce\, is dedicated to actively engaging\, empowering\, and fostering connections among professionals at every stage of their careers within the Modesto region. \n  \nRise & Shine WITH CEO’S Key Areas of Focus: \nProfessional Development: Offering resources to enhance the skills and knowledge base of rising professionals. \nNetworking: Facilitating meaningful connections with industry peers\, mentors\, and influential leaders. \nMentoring: Providing opportunities for mentorship\, where seasoned professionals can share their insights and guidance with emerging talent. \n  \nSecure your spot now for a morning of inspiration\, learning\, and valuable connections! Click HERE to register. 
URL:https://www.modchamber.org/event/rise-and-shine-with-ceos-3/
LOCATION:CA
CATEGORIES:Community Event,Education Event,Relationship Event
ORGANIZER;CN="Felicia Lopez":MAILTO:flopez@modchamber.org
END:VEVENT
BEGIN:VEVENT
DTSTART;TZID=America/Los_Angeles:20240416T080000
DTEND;TZID=America/Los_Angeles:20240416T090000
DTSTAMP:20260419T064318
CREATED:20240321T205114Z
LAST-MODIFIED:20240321T205114Z
UID:10000865-1713254400-1713258000@www.modchamber.org
SUMMARY:Women in Business Coffee and Conversations
DESCRIPTION:  \nAbout the Event: \nJoin us for an inspiring morning of networking and empowerment at our Women in Business Coffee and Conversations meeting! Start your day off right with stimulating conversations\, connecting with like-minded professionals\, and gaining valuable insights for your business journey. Our featured Women in Business will share their experiences and wisdom to inspire and uplift you. \nEvent Highlights: \n\nEngage in meaningful conversations over coffee\nNetwork with professionals from various industries\nGain valuable insights from our featured Women in Business\nEnjoy a light breakfast on us!\n\nRegistration:\nSecure your spot HERE today! Registration includes a complimentary light breakfast. \n  \nDon’t miss out on this opportunity to connect\, learn\, and grow with fellow women in business. Reserve your spot now! \n 
URL:https://www.modchamber.org/event/women-in-business-coffee-and-conversations-4/
LOCATION:CA
CATEGORIES:Community Event,Relationship Event
END:VEVENT
BEGIN:VEVENT
DTSTART;TZID=America/Los_Angeles:20240425T113000
DTEND;TZID=America/Los_Angeles:20240425T130000
DTSTAMP:20260419T064318
CREATED:20240321T184808Z
LAST-MODIFIED:20240321T184808Z
UID:10000862-1714044600-1714050000@www.modchamber.org
SUMMARY:27th Annual Ag Aware
DESCRIPTION:“Learning to do\, doing to learn\, earning to live\, living to serve!” \n\n  \nJoin us for the 27th annual Ag Aware Luncheon\, the premier agricultural fundraiser dedicated to empowering local FFA high school students! Immerse yourself in the vibrant world of agriculture and be part of the excitement of championing our future industry trailblazers. This event promises a delicious meal\, lively conversations\, and inspiring stories shared by the future leaders of our community. \n\nEvent Highlights:\n\nKey Note Speaker: Dr. Amrith Gunasekara – Director of Science and Research at the California Bountiful Foundation.\n\nSupport Education: Hear from current students and how they have been positively impacted by being in FFA.\n\nFFA Student Projects: See first hand the hard work of students\, and have the opportunity to take home a project.\n  \n  \nDon’t Miss the Chance to Make a Difference! \n\nSeize the opportunity to be a part of Ag Aware and contribute to the growth and success of our local FFA students. Your presence matters\, your support counts. Join us for an unforgettable experience at Ag Aware – where agriculture meets inspiration! \n  \nSponsorship opportunities available HERE
URL:https://www.modchamber.org/event/27th-annual-ag-aware/
LOCATION:Modesto Junion College Ace Pavilion\, 2201 Blue Gum Avenue\, Modesto\, CA\, United States
CATEGORIES:Community Event,Education Event
ORGANIZER;CN="Felicia Lopez":MAILTO:flopez@modchamber.org
GEO:37.6627211;-121.0354933
X-APPLE-STRUCTURED-LOCATION;VALUE=URI;X-ADDRESS=Modesto Junion College Ace Pavilion 2201 Blue Gum Avenue Modesto CA United States;X-APPLE-RADIUS=500;X-TITLE=2201 Blue Gum Avenue:geo:-121.0354933,37.6627211
END:VEVENT
END:VCALENDAR