BEGIN:VCALENDAR
VERSION:2.0
PRODID:-//Modesto Chamber of Commerce - ECPv6.15.20//NONSGML v1.0//EN
CALSCALE:GREGORIAN
METHOD:PUBLISH
X-WR-CALNAME:Modesto Chamber of Commerce
X-ORIGINAL-URL:https://www.modchamber.org
X-WR-CALDESC:Events for Modesto Chamber of Commerce
REFRESH-INTERVAL;VALUE=DURATION:PT1H
X-Robots-Tag:noindex
X-PUBLISHED-TTL:PT1H
BEGIN:VTIMEZONE
TZID:America/Los_Angeles
BEGIN:DAYLIGHT
TZOFFSETFROM:-0800
TZOFFSETTO:-0700
TZNAME:PDT
DTSTART:20220313T100000
END:DAYLIGHT
BEGIN:STANDARD
TZOFFSETFROM:-0700
TZOFFSETTO:-0800
TZNAME:PST
DTSTART:20221106T090000
END:STANDARD
BEGIN:DAYLIGHT
TZOFFSETFROM:-0800
TZOFFSETTO:-0700
TZNAME:PDT
DTSTART:20230312T100000
END:DAYLIGHT
BEGIN:STANDARD
TZOFFSETFROM:-0700
TZOFFSETTO:-0800
TZNAME:PST
DTSTART:20231105T090000
END:STANDARD
BEGIN:DAYLIGHT
TZOFFSETFROM:-0800
TZOFFSETTO:-0700
TZNAME:PDT
DTSTART:20240310T100000
END:DAYLIGHT
BEGIN:STANDARD
TZOFFSETFROM:-0700
TZOFFSETTO:-0800
TZNAME:PST
DTSTART:20241103T090000
END:STANDARD
END:VTIMEZONE
BEGIN:VEVENT
DTSTART;TZID=America/Los_Angeles:20230908T113000
DTEND;TZID=America/Los_Angeles:20230908T130000
DTSTAMP:20260419T183647
CREATED:20230829T234237Z
LAST-MODIFIED:20230829T235105Z
UID:10000778-1694172600-1694178000@www.modchamber.org
SUMMARY:61st Harvest Luncheon
DESCRIPTION:September 8\, 2023  \n11:30 AM – 1:00PM \nModesto Junior College Ag Pavilion\, \nModesto Junior College West Campus – 2201 Blue Gum Ave\, Modesto\, CA 95358 \nKEYNOTE SPEAKER\nCONGRESSMAN JOHN DUARTE\n  \nThe Harvest Luncheon has been a longstanding tradition in Modesto\, and this year marks our 61st anniversary. Agriculture is the backbone of our region\, and through this event\, we aim to highlight the significance of this industry and its lasting impact on our economy\, culture\, and way of life. The purpose of this event is to provide financial assistance and recognition to deserving students pursuing agricultural studies at Modesto Junior College. Through this scholarship\, we aim to foster the next generation of agricultural leaders who will continue to innovate and sustain our agricultural heritage. \n  \nBe a part of this momentous occasion\, celebrating the achievements of the agriculture community and empowering future leaders through education. Your presence and support at the 61st Harvest Luncheon make a difference in shaping the future of agriculture in our region. \nWe offer various sponsorship levels to suit your preferences and budget. These packages include valuable benefits such as prominent recognition during the event\, logo placement on marketing materials\, media exposure\, and the opportunity to network with influential community members\, and industry leaders. \n  \nTo register or become a Sponsor click  HERE. \n  \nFor further inquiries\, please contact: info@modchamber.org or 209-577-5757 \nWe look forward to welcoming you to the 61st Harvest Luncheon\, where we celebrate the heart of our community – agriculture!
URL:https://www.modchamber.org/event/61st-harvest-luncheon/
LOCATION:CA
CATEGORIES:Community Event,Education Event,Relationship Event
END:VEVENT
BEGIN:VEVENT
DTSTART;TZID=America/Los_Angeles:20230919T170000
DTEND;TZID=America/Los_Angeles:20230919T183000
DTSTAMP:20260419T183647
CREATED:20230911T215242Z
LAST-MODIFIED:20230911T215242Z
UID:10000783-1695142800-1695148200@www.modchamber.org
SUMMARY:Women in Business Evening Social
DESCRIPTION:Join Us for the Modesto Chamber of Commerce Women in Business Evening Social\n  \nWe’re delighted to invite you to a special event designed to connect and empower the women in our business community. The Modesto Chamber of Commerce presents the Women in Business Evening Social\, taking place at the newly renovated Hilton DoubleTree of Modesto on September 19th\, from 5:00 PM to 6:00 PM. \nEvent Details: \n\nDate: September 19th\nTime: 5:00 PM – 6:00 PM\nLocation: Hilton DoubleTree Modesto\n\nWhy Attend? This evening social promises to be a unique opportunity for women in business to come together\, network\, and share insights in a supportive and inspiring atmosphere. Whether you’re an established professional\, an entrepreneur\, or just starting your career\, this event is designed to empower you. \nHighlights: \n\nNetworking: Connect with like-minded individuals\, forge new relationships\, and expand your professional network.\nCommunity: Be part of a community that fosters growth\, support\, and encouragement.\n\nSpecial Offer – Reduced Registration Fee: For this month only\, we’re offering a reduced registration fee as a token of our appreciation for your participation. Take advantage of this limited-time offer and secure your spot at this fantastic event. \nRegistration: Attendance at the Women in Business Evening Social is by registration only. To ensure your place at this inspiring gathering\, please register in advance. \nDon’t miss this opportunity to connect\, learn\, and be inspired by the incredible women in our business community. Join us on September 19th at the Hilton DoubleTree Modesto for an evening of empowerment and networking. \nMark your calendar\, spread the word\, and reserve your spot today! We look forward to seeing you there. \n  \nRegister HERE
URL:https://www.modchamber.org/event/women-in-business-evening-social/
LOCATION:CA
CATEGORIES:Community Event,Relationship Event
ATTACH;FMTTYPE=image/png:https://www.modchamber.org/wp-content/uploads/2023/09/Copy-of-Copy-of-WIB-SEP-2023-.png
ORGANIZER;CN="Felicia Lopez":MAILTO:flopez@modchamber.org
END:VEVENT
BEGIN:VEVENT
DTSTART;TZID=America/Los_Angeles:20230930T090000
DTEND;TZID=America/Los_Angeles:20230930T150000
DTSTAMP:20260419T183647
CREATED:20230808T193828Z
LAST-MODIFIED:20230808T193836Z
UID:10000773-1696064400-1696086000@www.modchamber.org
SUMMARY:Touch -A- Truck Family Day
DESCRIPTION:An Interactive Family Day!\nMJC Ag Pavillion\nSaturday\, Sept. 30th\n9:00 AM – 3:00 PM\nChildren 12 and under FREE 13 and up $5\n  \nWHAT IS TOUCH-A-TRUCK MODESTO?\nTOUCH-A-TRUCK is a hands-on event for families in the community to explore and learn about the trucks\, equipment\, and businesses that help keep Modesto running and growing. The event will feature a variety of vehicles\, vendors\, and entertainment to provide an engaging and fun experience for all. \n  \nWHY TOUCH-A-TRUCK IN MODESTO?\nThe purpose of the event is to create a fun day for kids and families that inspire the youth in the community towards various career opportunities that exist in our community. \n  \nWHO IS PARTICIPATING?\n\nThe Modesto Chamber of Commerce is the presenting\nTitle Sponsorship\, Big Rig\, Heavy Duty\, and Feature Sponsorships are available!\nTrucks\, Tractors\, and Equipment on display will come from organizations such as: City of Modesto Utility Services\, Modesto Police\, Modesto Fire Department\, Modesto EMS\, Construction\, Paving\, Buses\, Goods/Materials Transport\, Ag/Landscape Tractors\, Electrical\, Dealerships\, and other cool trucks.\n\nWHAT DO THE FUNDS GO TOWARDS?\nProceeds from the event will fund scholarships through the Modesto Chamber of Commerce Foundation. We would like to work with the sponsoring organizations to identify areas of study that would maximize the benefit to our partners and the community. \n  \nFOR SPONSORSHIP OPPOTUNITIES PLEASE DOWNLAD THE FORM HERE\n  \nWe are currently taking Food Vendor application\, please contact flopez@modchamber.org for more information. 
URL:https://www.modchamber.org/event/touch-a-truck-family-day/
LOCATION:Modesto Junion College Ace Pavilion\, 2201 Blue Gum Avenue\, Modesto\, CA\, United States
CATEGORIES:Community Event,Relationship Event
ORGANIZER;CN="Felicia Lopez":MAILTO:flopez@modchamber.org
GEO:37.6627211;-121.0354933
X-APPLE-STRUCTURED-LOCATION;VALUE=URI;X-ADDRESS=Modesto Junion College Ace Pavilion 2201 Blue Gum Avenue Modesto CA United States;X-APPLE-RADIUS=500;X-TITLE=2201 Blue Gum Avenue:geo:-121.0354933,37.6627211
END:VEVENT
END:VCALENDAR