BEGIN:VCALENDAR
VERSION:2.0
PRODID:-//Modesto Chamber of Commerce - ECPv6.15.20//NONSGML v1.0//EN
CALSCALE:GREGORIAN
METHOD:PUBLISH
X-WR-CALNAME:Modesto Chamber of Commerce
X-ORIGINAL-URL:https://www.modchamber.org
X-WR-CALDESC:Events for Modesto Chamber of Commerce
REFRESH-INTERVAL;VALUE=DURATION:PT1H
X-Robots-Tag:noindex
X-PUBLISHED-TTL:PT1H
BEGIN:VTIMEZONE
TZID:America/Los_Angeles
BEGIN:DAYLIGHT
TZOFFSETFROM:-0800
TZOFFSETTO:-0700
TZNAME:PDT
DTSTART:20220313T100000
END:DAYLIGHT
BEGIN:STANDARD
TZOFFSETFROM:-0700
TZOFFSETTO:-0800
TZNAME:PST
DTSTART:20221106T090000
END:STANDARD
BEGIN:DAYLIGHT
TZOFFSETFROM:-0800
TZOFFSETTO:-0700
TZNAME:PDT
DTSTART:20230312T100000
END:DAYLIGHT
BEGIN:STANDARD
TZOFFSETFROM:-0700
TZOFFSETTO:-0800
TZNAME:PST
DTSTART:20231105T090000
END:STANDARD
BEGIN:DAYLIGHT
TZOFFSETFROM:-0800
TZOFFSETTO:-0700
TZNAME:PDT
DTSTART:20240310T100000
END:DAYLIGHT
BEGIN:STANDARD
TZOFFSETFROM:-0700
TZOFFSETTO:-0800
TZNAME:PST
DTSTART:20241103T090000
END:STANDARD
END:VTIMEZONE
BEGIN:VEVENT
DTSTART;TZID=America/Los_Angeles:20230601T073000
DTEND;TZID=America/Los_Angeles:20230601T091500
DTSTAMP:20260419T225530
CREATED:20230127T223842Z
LAST-MODIFIED:20230522T204544Z
UID:10000359-1685604600-1685610900@www.modchamber.org
SUMMARY:Rise and Shine with the badges
DESCRIPTION:June 1st 2023\n7:30 AM Check-in & network breakfast\n8:00 AM – 9:15 AM Program\n  \n\nWe are back with another fantastic opportunity to hear from local leaders!\n\n\n \n\n\nJoin us on June 1\, 2023\, as we converse with Stanislaus County Sheriff Jeff Dirkse\, Modesto Fire Chief Alan Ernst and Modesto Police Chief Brandon Gillespie!\n\n\n \n\n\nHear about their professional trajectory\, learn how leadership development has aided in their journey and be inspired by their stories.\n\n\n \n\n\nVenue host:\n\n\nCity of Modesto Parks Recreation & Neighborhoods\n\n\nMchenry Museum\n\n\n1402 I St\, Modesto\, CA 95354\n\n\n \n\n\n\nCLICK HERE TO REGISTER!\n\n\n\n\n\n\n 
URL:https://www.modchamber.org/event/5587/
LOCATION:CA
CATEGORIES:Community Event,Education Event,Relationship Event
ORGANIZER;CN="Felicia Lopez":MAILTO:flopez@modchamber.org
END:VEVENT
BEGIN:VEVENT
DTSTART;TZID=America/Los_Angeles:20230620T170000
DTEND;TZID=America/Los_Angeles:20230620T183000
DTSTAMP:20260419T225530
CREATED:20230608T222815Z
LAST-MODIFIED:20230608T224439Z
UID:10000765-1687280400-1687285800@www.modchamber.org
SUMMARY:Women in Business Summer Mixer
DESCRIPTION:Click HERE to register! 
URL:https://www.modchamber.org/event/women-in-business-summer-mixer/
LOCATION:CA
CATEGORIES:Community Event,Service Event
ORGANIZER;CN="Felicia Lopez":MAILTO:flopez@modchamber.org
END:VEVENT
BEGIN:VEVENT
DTSTART;TZID=America/Los_Angeles:20230627T170000
DTEND;TZID=America/Los_Angeles:20230627T190000
DTSTAMP:20260419T225530
CREATED:20230531T213411Z
LAST-MODIFIED:20230531T213634Z
UID:10000457-1687885200-1687892400@www.modchamber.org
SUMMARY:Regional Multi Chamber Mixer
DESCRIPTION:
URL:https://www.modchamber.org/event/regional-multi-chamber-mixer/
LOCATION:Del Rio Country Club\, 801 Stewart Rd\, Modesto\, CA\, 95356
CATEGORIES:Community Event,Relationship Event
ATTACH;FMTTYPE=image/png:https://www.modchamber.org/wp-content/uploads/2023/05/Multi-Chamber-Mixer.png
GEO:37.7440611;-121.0046034
X-APPLE-STRUCTURED-LOCATION;VALUE=URI;X-ADDRESS=Del Rio Country Club 801 Stewart Rd Modesto CA 95356;X-APPLE-RADIUS=500;X-TITLE=801 Stewart Rd:geo:-121.0046034,37.7440611
END:VEVENT
END:VCALENDAR