BEGIN:VCALENDAR
VERSION:2.0
PRODID:-//Modesto Chamber of Commerce - ECPv6.15.20//NONSGML v1.0//EN
CALSCALE:GREGORIAN
METHOD:PUBLISH
X-WR-CALNAME:Modesto Chamber of Commerce
X-ORIGINAL-URL:https://www.modchamber.org
X-WR-CALDESC:Events for Modesto Chamber of Commerce
REFRESH-INTERVAL;VALUE=DURATION:PT1H
X-Robots-Tag:noindex
X-PUBLISHED-TTL:PT1H
BEGIN:VTIMEZONE
TZID:America/Los_Angeles
BEGIN:DAYLIGHT
TZOFFSETFROM:-0800
TZOFFSETTO:-0700
TZNAME:PDT
DTSTART:20220313T100000
END:DAYLIGHT
BEGIN:STANDARD
TZOFFSETFROM:-0700
TZOFFSETTO:-0800
TZNAME:PST
DTSTART:20221106T090000
END:STANDARD
BEGIN:DAYLIGHT
TZOFFSETFROM:-0800
TZOFFSETTO:-0700
TZNAME:PDT
DTSTART:20230312T100000
END:DAYLIGHT
BEGIN:STANDARD
TZOFFSETFROM:-0700
TZOFFSETTO:-0800
TZNAME:PST
DTSTART:20231105T090000
END:STANDARD
BEGIN:DAYLIGHT
TZOFFSETFROM:-0800
TZOFFSETTO:-0700
TZNAME:PDT
DTSTART:20240310T100000
END:DAYLIGHT
BEGIN:STANDARD
TZOFFSETFROM:-0700
TZOFFSETTO:-0800
TZNAME:PST
DTSTART:20241103T090000
END:STANDARD
END:VTIMEZONE
BEGIN:VEVENT
DTSTART;TZID=America/Los_Angeles:20231117T113000
DTEND;TZID=America/Los_Angeles:20231117T130000
DTSTAMP:20260421T074543
CREATED:20230831T204950Z
LAST-MODIFIED:20230831T204950Z
UID:10000781-1700220600-1700226000@www.modchamber.org
SUMMARY:Government Relations Council
DESCRIPTION:Mission Statement\nGRC meetings are held on the third Friday of the month at 11:30 AM.\nThe Governmental Relations Council (GRC) provides the nexus between members of the Chamber and elected and government officials who\, through either legislation or regulation\, may impact the bottom line of our members’ businesses.\n\n\n\n\nPresentation Speaker:\nCongressman John Duarte – 13th Congressional District of California\n\n\nTopic:\nTBA\n\nTo register click HERE.\nFor questions please contact info@modchamber.org or call 209-577-5757.
URL:https://www.modchamber.org/event/government-relations-council-9/
LOCATION:Modesto Chamber of Commerce\, 1114 J Street\, Modesto\, CA\, 95354\, United States
CATEGORIES:Advocacy Event
ATTACH;FMTTYPE=image/png:https://www.modchamber.org/wp-content/uploads/2023/02/Untitled-design-60.png
GEO:37.641396;-120.9988215
X-APPLE-STRUCTURED-LOCATION;VALUE=URI;X-ADDRESS=Modesto Chamber of Commerce 1114 J Street Modesto CA 95354 United States;X-APPLE-RADIUS=500;X-TITLE=1114 J Street:geo:-120.9988215,37.641396
END:VEVENT
BEGIN:VEVENT
DTSTART;TZID=America/Los_Angeles:20231109T153000
DTEND;TZID=America/Los_Angeles:20231109T163000
DTSTAMP:20260421T074543
CREATED:20231010T230919Z
LAST-MODIFIED:20231016T201148Z
UID:10000794-1699543800-1699547400@www.modchamber.org
SUMMARY:Green Ribbon Cutting-The Sweet Potato Pie Company
DESCRIPTION:Please Join us for a Green Ribbon Cutting Ceremony as we celebrate The Sweet Potato Pie Company for their sustainability efforts of Going Green and becoming Green Certified thought the California Green Business Network\, Stanislaus Program. \nThis event is free and open to the public- come celebrate with us! \nNovember 9\, 2023 at 3:30PM \n2020 Coffee Rd C.4\nModesto\, CA
URL:https://www.modchamber.org/event/green-ribbon-cutting-the-sweet-potato-pie-company/
CATEGORIES:Advocacy Event,Community Event,Relationship Event,Sustainability
ORGANIZER;CN="Jolene Camarena":MAILTO:jcamarena@modchamber.org
END:VEVENT
BEGIN:VEVENT
DTSTART;TZID=America/Los_Angeles:20231101T120000
DTEND;TZID=America/Los_Angeles:20231101T130000
DTSTAMP:20260421T074543
CREATED:20231002T165818Z
LAST-MODIFIED:20231020T154343Z
UID:10000786-1698840000-1698843600@www.modchamber.org
SUMMARY:Economic Development Committee
DESCRIPTION:Mission Statement  \nThe Modesto Chamber of Commerce is dedicated to serving the greater Modesto Area\, regional businesses and community prosperity through advocacy\, \ncollaboration\, access to leaders\, economic development\, connectivity and business education. \n  \nSpeaker:  Dr. Gokce Soydemir\, Professor of Economics\, Department of Accounting & Finance\, CSU Stanislaus \n  \nTopic: San Joaquin Valley Business Forecast \n\nTo register click HERE \n  \nTHIS WILL BE A JOINT PRESENTATION WITH THE STANISLAUS LATINO CHAMBER OF COMMERCE\n  \nTHE PRESENTATION WILL NOT BE HELD AT THE MODESTO CHAMBER. PAPAPOLLONI MEDITERRANEAN BISTRO\, 2501 McHENRY AVE.\, MODESTO\, CA 95350\n  \n  \nFor questions please go to info@modchamber.org or call 209-575-5757
URL:https://www.modchamber.org/event/economic-development-committee-3/
LOCATION:Modesto Chamber of Commerce\, 1114 J Street\, Modesto\, CA\, 95354\, United States
CATEGORIES:Advocacy Event
ATTACH;FMTTYPE=image/png:https://www.modchamber.org/wp-content/uploads/2023/10/EDC-November-2023-1080-×-1080-px-4.png
ORGANIZER;CN="Stephen Shaw":MAILTO:sshaw@modchamber.org
GEO:37.641396;-120.9988215
X-APPLE-STRUCTURED-LOCATION;VALUE=URI;X-ADDRESS=Modesto Chamber of Commerce 1114 J Street Modesto CA 95354 United States;X-APPLE-RADIUS=500;X-TITLE=1114 J Street:geo:-120.9988215,37.641396
END:VEVENT
BEGIN:VEVENT
DTSTART;TZID=America/Los_Angeles:20231020T113000
DTEND;TZID=America/Los_Angeles:20231020T130000
DTSTAMP:20260421T074543
CREATED:20230831T182139Z
LAST-MODIFIED:20230831T182139Z
UID:10000780-1697801400-1697806800@www.modchamber.org
SUMMARY:Government Relations Council
DESCRIPTION:Mission Statement\nGRC meetings are held on the third Friday of the month at 11:30 AM.\nThe Governmental Relations Council (GRC) provides the nexus between members of the Chamber and elected and government officials who\, through either legislation or regulation\, may impact the bottom line of our members’ businesses.\n\n\n\n\nPresentation Speaker:\nSenator Marie Alvarado-Gil – California Senate District 4\n\n\nTopic:\nTBA\n\nTo register click HERE.\nFor questions please contact info@modchamber.org or call 209-577-5757.
URL:https://www.modchamber.org/event/government-relations-council-8/
LOCATION:Modesto Chamber of Commerce\, 1114 J Street\, Modesto\, CA\, 95354\, United States
CATEGORIES:Advocacy Event
ATTACH;FMTTYPE=image/png:https://www.modchamber.org/wp-content/uploads/2023/02/Untitled-design-60.png
GEO:37.641396;-120.9988215
X-APPLE-STRUCTURED-LOCATION;VALUE=URI;X-ADDRESS=Modesto Chamber of Commerce 1114 J Street Modesto CA 95354 United States;X-APPLE-RADIUS=500;X-TITLE=1114 J Street:geo:-120.9988215,37.641396
END:VEVENT
BEGIN:VEVENT
DTSTART;TZID=America/Los_Angeles:20231019T120000
DTEND;TZID=America/Los_Angeles:20231019T130000
DTSTAMP:20260421T074543
CREATED:20231002T184914Z
LAST-MODIFIED:20231002T184914Z
UID:10000787-1697716800-1697720400@www.modchamber.org
SUMMARY:Stanislaus Green Team Meeting
DESCRIPTION:Please Join us October 19th\, 2023 at 12PM \nAssemblymember Juan Alanis will be joining as our guest presenter. \nTopic: The benefits of solar power and electric vehicles \nJoin us for a delicious lunch and learning experience. \n 
URL:https://www.modchamber.org/event/stanislaus-green-team-meeting-13/
LOCATION:Modesto Chamber of Commerce\, 1114 J Street\, Modesto\, CA\, 95354\, United States
CATEGORIES:Advocacy Event,Sustainability
ATTACH;FMTTYPE=image/png:https://www.modchamber.org/wp-content/uploads/2023/10/October-SGT-image-1.png
GEO:37.641396;-120.9988215
X-APPLE-STRUCTURED-LOCATION;VALUE=URI;X-ADDRESS=Modesto Chamber of Commerce 1114 J Street Modesto CA 95354 United States;X-APPLE-RADIUS=500;X-TITLE=1114 J Street:geo:-120.9988215,37.641396
END:VEVENT
BEGIN:VEVENT
DTSTART;TZID=America/Los_Angeles:20230915T113000
DTEND;TZID=America/Los_Angeles:20230915T130000
DTSTAMP:20260421T074543
CREATED:20230831T181948Z
LAST-MODIFIED:20230914T215929Z
UID:10000779-1694777400-1694782800@www.modchamber.org
SUMMARY:Government Relations Council
DESCRIPTION:Mission Statement\nGRC meetings are held on the third Friday of the month at 11:30 AM.\nThe Governmental Relations Council (GRC) provides the nexus between members of the Chamber and elected and government officials who\, through either legislation or regulation\, may impact the bottom line of our members’ businesses.\n\n\n\n\nPresentation Speaker:\nAssemblyman Juan Alanis – California Legislature – Assembly District 22\n\n\nTopic:\n2023 State Legislative Update\n\nTo register click HERE.\nFor questions please contact info@modchamber.org or call 209-577-5757.
URL:https://www.modchamber.org/event/government-relations-council-7/
LOCATION:Modesto Chamber of Commerce\, 1114 J Street\, Modesto\, CA\, 95354\, United States
CATEGORIES:Advocacy Event
ATTACH;FMTTYPE=image/png:https://www.modchamber.org/wp-content/uploads/2023/02/Untitled-design-60.png
GEO:37.641396;-120.9988215
X-APPLE-STRUCTURED-LOCATION;VALUE=URI;X-ADDRESS=Modesto Chamber of Commerce 1114 J Street Modesto CA 95354 United States;X-APPLE-RADIUS=500;X-TITLE=1114 J Street:geo:-120.9988215,37.641396
END:VEVENT
BEGIN:VEVENT
DTSTART;TZID=America/Los_Angeles:20230906T120000
DTEND;TZID=America/Los_Angeles:20230906T130000
DTSTAMP:20260421T074543
CREATED:20230822T163436Z
LAST-MODIFIED:20230822T163436Z
UID:10000774-1694001600-1694005200@www.modchamber.org
SUMMARY:Economic Development Committee
DESCRIPTION:Mission Statement  \nThe Modesto Chamber of Commerce is dedicated to serving the greater Modesto Area\, regional businesses and community prosperity through advocacy\, \ncollaboration\, access to leaders\, economic development\, connectivity and business education. \n  \nSpeaker:  Dr. Gokce Soydemir\, Foster Farms Endowed Professor of Economics\, Department of Accounting & Finance\, CSU Stanislaus \n  \nTopic: San Joaquin Valley Business Forecast \n\nTo register click HERE \n  \n  \nFor questions please go to info@modchamber.org or call 209-575-5757
URL:https://www.modchamber.org/event/economic-development-committee-2/
LOCATION:Modesto Chamber of Commerce\, 1114 J Street\, Modesto\, CA\, 95354\, United States
CATEGORIES:Advocacy Event
ATTACH;FMTTYPE=image/png:https://www.modchamber.org/wp-content/uploads/2021/01/EDC-Banner-1080-x-1080-px.png
ORGANIZER;CN="Stephen Shaw":MAILTO:sshaw@modchamber.org
GEO:37.641396;-120.9988215
X-APPLE-STRUCTURED-LOCATION;VALUE=URI;X-ADDRESS=Modesto Chamber of Commerce 1114 J Street Modesto CA 95354 United States;X-APPLE-RADIUS=500;X-TITLE=1114 J Street:geo:-120.9988215,37.641396
END:VEVENT
BEGIN:VEVENT
DTSTART;TZID=America/Los_Angeles:20230818T113000
DTEND;TZID=America/Los_Angeles:20230818T130000
DTSTAMP:20260421T074543
CREATED:20230727T215841Z
LAST-MODIFIED:20230817T221743Z
UID:10000769-1692358200-1692363600@www.modchamber.org
SUMMARY:Government Relations Council
DESCRIPTION:Mission Statement\nGRC meetings are held on the third Friday of the month at 11:30 AM.\nThe Governmental Relations Council (GRC) provides the nexus between members of the Chamber and elected and government officials who\, through either legislation or regulation\, may impact the bottom line of our members’ businesses.\n\n\n\n\nPresentation Speaker:\nDan Leavitt – Manager of Regional Initiatives – San Joaquin Regional Rail Commission\, San Joaquin Joint Powers Authority\n\n\nTopic:\nValley Rail Update\n\nTo register click HERE.\nFor questions please contact info@modchamber.org or call 209-577-5757.
URL:https://www.modchamber.org/event/government-relations-council-6/
LOCATION:Modesto Chamber of Commerce\, 1114 J Street\, Modesto\, CA\, 95354\, United States
CATEGORIES:Advocacy Event
ATTACH;FMTTYPE=image/png:https://www.modchamber.org/wp-content/uploads/2023/02/Untitled-design-60.png
GEO:37.641396;-120.9988215
X-APPLE-STRUCTURED-LOCATION;VALUE=URI;X-ADDRESS=Modesto Chamber of Commerce 1114 J Street Modesto CA 95354 United States;X-APPLE-RADIUS=500;X-TITLE=1114 J Street:geo:-120.9988215,37.641396
END:VEVENT
BEGIN:VEVENT
DTSTART;TZID=America/Los_Angeles:20230802T120000
DTEND;TZID=America/Los_Angeles:20230802T130000
DTSTAMP:20260421T074543
CREATED:20230727T220159Z
LAST-MODIFIED:20230728T203322Z
UID:10000770-1690977600-1690981200@www.modchamber.org
SUMMARY:Economic Development Committee
DESCRIPTION:Mission Statement  \nThe Modesto Chamber of Commerce is dedicated to serving the greater Modesto Area\, regional businesses and community prosperity through advocacy\, \ncollaboration\, access to leaders\, economic development\, connectivity and business education. \n  \nSpeaker:  Dave White\, CEO – Opportunity Stanislaus \n  \nTopic: Report on Activities\, Departments\, Goals\, Results\, & What’s to Come \n\nTo register click HERE \n  \n  \nFor questions please go to info@modchamber.org or call 209-575-5757
URL:https://www.modchamber.org/event/economic-development-committee/
LOCATION:Modesto Chamber of Commerce\, 1114 J Street\, Modesto\, CA\, 95354\, United States
CATEGORIES:Advocacy Event
ATTACH;FMTTYPE=image/png:https://www.modchamber.org/wp-content/uploads/2021/01/EDC-Banner-1080-x-1080-px.png
ORGANIZER;CN="Stephen Shaw":MAILTO:sshaw@modchamber.org
GEO:37.641396;-120.9988215
X-APPLE-STRUCTURED-LOCATION;VALUE=URI;X-ADDRESS=Modesto Chamber of Commerce 1114 J Street Modesto CA 95354 United States;X-APPLE-RADIUS=500;X-TITLE=1114 J Street:geo:-120.9988215,37.641396
END:VEVENT
BEGIN:VEVENT
DTSTART;TZID=America/Los_Angeles:20230721T113000
DTEND;TZID=America/Los_Angeles:20230721T130000
DTSTAMP:20260421T074543
CREATED:20230707T224501Z
LAST-MODIFIED:20230707T224501Z
UID:10000767-1689939000-1689944400@www.modchamber.org
SUMMARY:Government Relations Council
DESCRIPTION:Mission Statement\nGRC meetings are held on the third Friday of the month at 11:30 AM.\nThe Governmental Relations Council (GRC) provides the nexus between members of the Chamber and elected and government officials who\, through either legislation or regulation\, may impact the bottom line of our members’ businesses.\n\n\n\n\nPresentation Speaker:\nCongressman Tom McClintock\n\n\nTopic:\nOngoing Legislation in D.C. & Current Events\n\nTo register click HERE.\nFor questions please contact info@modchamber.org or call 209-577-5757.
URL:https://www.modchamber.org/event/government-relations-council-5/
LOCATION:Modesto Chamber of Commerce\, 1114 J Street\, Modesto\, CA\, 95354\, United States
CATEGORIES:Advocacy Event
ATTACH;FMTTYPE=image/png:https://www.modchamber.org/wp-content/uploads/2023/02/Untitled-design-60.png
GEO:37.641396;-120.9988215
X-APPLE-STRUCTURED-LOCATION;VALUE=URI;X-ADDRESS=Modesto Chamber of Commerce 1114 J Street Modesto CA 95354 United States;X-APPLE-RADIUS=500;X-TITLE=1114 J Street:geo:-120.9988215,37.641396
END:VEVENT
BEGIN:VEVENT
DTSTART;TZID=America/Los_Angeles:20230622T100000
DTEND;TZID=America/Los_Angeles:20230622T130000
DTSTAMP:20260421T074543
CREATED:20230531T223221Z
LAST-MODIFIED:20230609T183523Z
UID:10000459-1687428000-1687438800@www.modchamber.org
SUMMARY:From the Ground Up Sustainability Symposium
DESCRIPTION:Join us as we hear from industry specialists\, celebrate with CAGBN Award Recipients\, and enjoy a delicious lunch buffet.\n  \nTo  learn more about CAGBN – California Green Business Network and how your business can be Green certified please go to: https://www.modchamber.org/california-green-business-network/ \n  \n  \nRegister here: https://business.modchamber.org/events/details/from-the-ground-up-sustainability-symposium-9631
URL:https://www.modchamber.org/event/from-the-ground-up-sustainability-symposium/
CATEGORIES:Advocacy Event,Service Event,Sustainability
ORGANIZER;CN="Felicia Lopez":MAILTO:flopez@modchamber.org
END:VEVENT
BEGIN:VEVENT
DTSTART;TZID=America/Los_Angeles:20230616T113000
DTEND;TZID=America/Los_Angeles:20230616T130000
DTSTAMP:20260421T074543
CREATED:20230531T211112Z
LAST-MODIFIED:20230531T211151Z
UID:10000456-1686915000-1686920400@www.modchamber.org
SUMMARY:Government Relations Council
DESCRIPTION:Mission Statement\nGRC meetings are held on the third Friday of the month at 11:30 AM.\nThe Governmental Relations Council (GRC) provides the nexus between members of the Chamber and elected and government officials who\, through either legislation or regulation\, may impact the bottom line of our members’ businesses.\n\n\n\n\nPresentation Speaker:\nTo be announced – Tuolumne River Trust\n\n\nTopic:\nTo be announced\n\nTo register click HERE.\nFor questions please contact info@modchamber.org or call 209-577-5757.
URL:https://www.modchamber.org/event/government-relations-council-4/
LOCATION:Modesto Chamber of Commerce\, 1114 J Street\, Modesto\, CA\, 95354\, United States
CATEGORIES:Advocacy Event
ATTACH;FMTTYPE=image/png:https://www.modchamber.org/wp-content/uploads/2023/02/Untitled-design-60.png
GEO:37.641396;-120.9988215
X-APPLE-STRUCTURED-LOCATION;VALUE=URI;X-ADDRESS=Modesto Chamber of Commerce 1114 J Street Modesto CA 95354 United States;X-APPLE-RADIUS=500;X-TITLE=1114 J Street:geo:-120.9988215,37.641396
END:VEVENT
BEGIN:VEVENT
DTSTART;TZID=America/Los_Angeles:20230607T120000
DTEND;TZID=America/Los_Angeles:20230607T130000
DTSTAMP:20260421T074543
CREATED:20230424T165007Z
LAST-MODIFIED:20230424T165007Z
UID:10000454-1686139200-1686142800@www.modchamber.org
SUMMARY:Economic Development Committee
DESCRIPTION:Mission Statement  \nThe Modesto Chamber of Commerce is dedicated to serving the greater Modesto Area\, regional businesses and community prosperity through advocacy\, \ncollaboration\, access to leaders\, economic development\, connectivity and business education. \n  \nSpeaker:  TBA \n  \nTopic: TBA \n\nTo register click HERE \n  \n  \nFor questions please go to info@modchamber.org or call 209-575-5757
URL:https://www.modchamber.org/event/economic-development-committee-7/
LOCATION:Modesto Chamber of Commerce\, 1114 J Street\, Modesto\, CA\, 95354\, United States
CATEGORIES:Advocacy Event
ATTACH;FMTTYPE=image/png:https://www.modchamber.org/wp-content/uploads/2021/01/EDC-Banner-1080-x-1080-px.png
ORGANIZER;CN="Stephen Shaw":MAILTO:sshaw@modchamber.org
GEO:37.641396;-120.9988215
X-APPLE-STRUCTURED-LOCATION;VALUE=URI;X-ADDRESS=Modesto Chamber of Commerce 1114 J Street Modesto CA 95354 United States;X-APPLE-RADIUS=500;X-TITLE=1114 J Street:geo:-120.9988215,37.641396
END:VEVENT
BEGIN:VEVENT
DTSTART;TZID=America/Los_Angeles:20230519T113000
DTEND;TZID=America/Los_Angeles:20230519T130000
DTSTAMP:20260421T074543
CREATED:20230424T164550Z
LAST-MODIFIED:20230424T164550Z
UID:10000453-1684495800-1684501200@www.modchamber.org
SUMMARY:Government Relations Council
DESCRIPTION:Mission Statement\nGRC meetings are held on the third Friday of the month at 11:30 AM.\nThe Governmental Relations Council (GRC) provides the nexus between members of the Chamber and elected and government officials who\, through either legislation or regulation\, may impact the bottom line of our members’ businesses.\n\n\n\n\nPresentation Speaker:\nJanice Keating – Director\, Modesto Irrigation District\n\n\nTopic:\nWater\, Power\, & How the First Female Director in 135 Years is Handling it.\n\nTo register click HERE.\nFor questions please contact info@modchamber.org or call 209-577-5757.
URL:https://www.modchamber.org/event/government-relations-council-3/
LOCATION:Modesto Chamber of Commerce\, 1114 J Street\, Modesto\, CA\, 95354\, United States
CATEGORIES:Advocacy Event
ATTACH;FMTTYPE=image/png:https://www.modchamber.org/wp-content/uploads/2023/02/Untitled-design-60.png
GEO:37.641396;-120.9988215
X-APPLE-STRUCTURED-LOCATION;VALUE=URI;X-ADDRESS=Modesto Chamber of Commerce 1114 J Street Modesto CA 95354 United States;X-APPLE-RADIUS=500;X-TITLE=1114 J Street:geo:-120.9988215,37.641396
END:VEVENT
BEGIN:VEVENT
DTSTART;TZID=America/Los_Angeles:20230421T113000
DTEND;TZID=America/Los_Angeles:20230421T130000
DTSTAMP:20260421T074543
CREATED:20230301T220207Z
LAST-MODIFIED:20230301T220207Z
UID:10000442-1682076600-1682082000@www.modchamber.org
SUMMARY:Government Relations Council
DESCRIPTION:Mission Statement\nGRC meetings are held on the third Friday of the month at 11:30 AM.\nThe Governmental Relations Council (GRC) provides the nexus between members of the Chamber and elected and government officials who\, through either legislation or regulation\, may impact the bottom line of our members’ businesses.\n\n\n\n\nPresentation Speaker:\nEdgar Garcia – City of Modesto – Housing & Urban Development Supervisor\n\n\nTopic:\nModesto 2050 – City of Modesto General Plan Process\n\nTo register click HERE.\nFor questions please contact info@modchamber.org or call 209-577-5757.
URL:https://www.modchamber.org/event/government-relations-council-2/
LOCATION:Modesto Chamber of Commerce\, 1114 J Street\, Modesto\, CA\, 95354\, United States
CATEGORIES:Advocacy Event
ATTACH;FMTTYPE=image/png:https://www.modchamber.org/wp-content/uploads/2023/02/Untitled-design-60.png
GEO:37.641396;-120.9988215
X-APPLE-STRUCTURED-LOCATION;VALUE=URI;X-ADDRESS=Modesto Chamber of Commerce 1114 J Street Modesto CA 95354 United States;X-APPLE-RADIUS=500;X-TITLE=1114 J Street:geo:-120.9988215,37.641396
END:VEVENT
END:VCALENDAR