BEGIN:VCALENDAR
VERSION:2.0
PRODID:-//Modesto Chamber of Commerce - ECPv6.15.20//NONSGML v1.0//EN
CALSCALE:GREGORIAN
METHOD:PUBLISH
X-ORIGINAL-URL:https://www.modchamber.org
X-WR-CALDESC:Events for Modesto Chamber of Commerce
REFRESH-INTERVAL;VALUE=DURATION:PT1H
X-Robots-Tag:noindex
X-PUBLISHED-TTL:PT1H
BEGIN:VTIMEZONE
TZID:America/Los_Angeles
BEGIN:DAYLIGHT
TZOFFSETFROM:-0800
TZOFFSETTO:-0700
TZNAME:PDT
DTSTART:20240310T100000
END:DAYLIGHT
BEGIN:STANDARD
TZOFFSETFROM:-0700
TZOFFSETTO:-0800
TZNAME:PST
DTSTART:20241103T090000
END:STANDARD
BEGIN:DAYLIGHT
TZOFFSETFROM:-0800
TZOFFSETTO:-0700
TZNAME:PDT
DTSTART:20250309T100000
END:DAYLIGHT
BEGIN:STANDARD
TZOFFSETFROM:-0700
TZOFFSETTO:-0800
TZNAME:PST
DTSTART:20251102T090000
END:STANDARD
BEGIN:DAYLIGHT
TZOFFSETFROM:-0800
TZOFFSETTO:-0700
TZNAME:PDT
DTSTART:20260308T100000
END:DAYLIGHT
BEGIN:STANDARD
TZOFFSETFROM:-0700
TZOFFSETTO:-0800
TZNAME:PST
DTSTART:20261101T090000
END:STANDARD
BEGIN:DAYLIGHT
TZOFFSETFROM:-0800
TZOFFSETTO:-0700
TZNAME:PDT
DTSTART:20270314T100000
END:DAYLIGHT
BEGIN:STANDARD
TZOFFSETFROM:-0700
TZOFFSETTO:-0800
TZNAME:PST
DTSTART:20271107T090000
END:STANDARD
END:VTIMEZONE
BEGIN:VEVENT
DTSTART;TZID=America/Los_Angeles:20250402T113000
DTEND;TZID=America/Los_Angeles:20250402T130000
DTSTAMP:20260422T154801
CREATED:20250317T210419Z
LAST-MODIFIED:20250317T210419Z
UID:10000928-1743593400-1743598800@www.modchamber.org
SUMMARY:Economic Development Committee Meeting
DESCRIPTION:Economic Development Committee\n1st Wednesday’s of the month(excluding holidays)\nContact sshaw@modchamber.org for details on upcoming meetings
URL:https://www.modchamber.org/event/economic-development-committee-meeting-4-2/
CATEGORIES:Advocacy Event
ATTACH;FMTTYPE=image/jpeg:https://www.modchamber.org/wp-content/uploads/2025/01/EDC-Logo_-002.jpg
END:VEVENT
BEGIN:VEVENT
DTSTART;TZID=America/Los_Angeles:20250418T113000
DTEND;TZID=America/Los_Angeles:20250418T130000
DTSTAMP:20260422T154801
CREATED:20250117T165258Z
LAST-MODIFIED:20250117T165416Z
UID:10000940-1744975800-1744981200@www.modchamber.org
SUMMARY:Government Relations Council Meeting
DESCRIPTION:Government Relations Council\nEvery 3rd Friday of the month(Excluding holidays)\nContact sshaw@modchamber.org for details on upcoming meetings
URL:https://www.modchamber.org/event/7561/2025-04-18/
CATEGORIES:Advocacy Event
ATTACH;FMTTYPE=image/png:https://www.modchamber.org/wp-content/uploads/2025/01/GRC-LOGO-final.png
END:VEVENT
BEGIN:VEVENT
DTSTART;TZID=America/Los_Angeles:20250507T113000
DTEND;TZID=America/Los_Angeles:20250507T130000
DTSTAMP:20260422T154801
CREATED:20250117T164955Z
LAST-MODIFIED:20250523T204045Z
UID:10000929-1746617400-1746622800@www.modchamber.org
SUMMARY:Economic Development Committee Meeting
DESCRIPTION:Economic Development Committee\n1st Wednesday’s of the month(excluding holidays)\nContact sshaw@modchamber.org for details on upcoming meetings
URL:https://www.modchamber.org/event/economic-development-committee-meeting-4/2025-05-07/
CATEGORIES:Advocacy Event
ATTACH;FMTTYPE=image/jpeg:https://www.modchamber.org/wp-content/uploads/2025/01/EDC-Logo_-002.jpg
END:VEVENT
BEGIN:VEVENT
DTSTART;TZID=America/Los_Angeles:20250516T113000
DTEND;TZID=America/Los_Angeles:20250516T130000
DTSTAMP:20260422T154801
CREATED:20250117T165258Z
LAST-MODIFIED:20250117T165416Z
UID:10000941-1747395000-1747400400@www.modchamber.org
SUMMARY:Government Relations Council Meeting
DESCRIPTION:Government Relations Council\nEvery 3rd Friday of the month(Excluding holidays)\nContact sshaw@modchamber.org for details on upcoming meetings
URL:https://www.modchamber.org/event/7561/2025-05-16/
CATEGORIES:Advocacy Event
ATTACH;FMTTYPE=image/png:https://www.modchamber.org/wp-content/uploads/2025/01/GRC-LOGO-final.png
END:VEVENT
BEGIN:VEVENT
DTSTART;TZID=America/Los_Angeles:20250605T150000
DTEND;TZID=America/Los_Angeles:20250605T163000
DTSTAMP:20260422T154801
CREATED:20250506T214601Z
LAST-MODIFIED:20250506T214911Z
UID:10000994-1749135600-1749141000@www.modchamber.org
SUMMARY:Advocacy Summer Series: Water
DESCRIPTION:Advocacy Summer Series - Water (1)\n  \nRegister here
URL:https://www.modchamber.org/event/advocacy-summer-series-water/
LOCATION:The State Theatre\, 1307 J Street\, Modesto\, CA\, 95354\, United States
CATEGORIES:Advocacy Event
GEO:37.64306;-120.9974059
X-APPLE-STRUCTURED-LOCATION;VALUE=URI;X-ADDRESS=The State Theatre 1307 J Street Modesto CA 95354 United States;X-APPLE-RADIUS=500;X-TITLE=1307 J Street:geo:-120.9974059,37.64306
END:VEVENT
BEGIN:VEVENT
DTSTART;TZID=America/Los_Angeles:20250725T113000
DTEND;TZID=America/Los_Angeles:20250725T133000
DTSTAMP:20260422T154801
CREATED:20250513T182453Z
LAST-MODIFIED:20250729T174008Z
UID:10000996-1753443000-1753450200@www.modchamber.org
SUMMARY:Summer Advocacy Series - Wealth
DESCRIPTION:  \n 
URL:https://www.modchamber.org/event/summer-advocacy-series-wealth/
LOCATION:Martin Petersen Event Center\, 720 12th Street\, Modesto\, CA\, United States
CATEGORIES:Advocacy Event,Community Event
ORGANIZER;CN="Felicia Lopez":MAILTO:flopez@modchamber.org
GEO:37.639916;-120.9953842
X-APPLE-STRUCTURED-LOCATION;VALUE=URI;X-ADDRESS=Martin Petersen Event Center 720 12th Street Modesto CA United States;X-APPLE-RADIUS=500;X-TITLE=720 12th Street:geo:-120.9953842,37.639916
END:VEVENT
BEGIN:VEVENT
DTSTART;TZID=America/Los_Angeles:20250815T113000
DTEND;TZID=America/Los_Angeles:20250815T133000
DTSTAMP:20260422T154801
CREATED:20250513T182647Z
LAST-MODIFIED:20250729T174353Z
UID:10000997-1755257400-1755264600@www.modchamber.org
SUMMARY:Summer Advocacy Series - Contentment
DESCRIPTION:Summer Advocacy Series: A Regional Conversation Rooted in Our Values\nInspired by the City of Modesto’s iconic motto—Water\, Wealth\, Contentment\, and Health—the Summer Advocacy Series brings these values to life through a dynamic lineup of events designed to inform\, engage\, and inspire. \nEach session spotlights one of these core themes\, creating a platform for thoughtful dialogue around the issues shaping the future of Stanislaus County. From economic development and water sustainability to education and public health\, this series invites our region’s key leaders\, decision-makers\, and community voices to the table. \nTogether\, we explore opportunities\, address challenges\, and promote collaboration across sectors. Whether you’re a business owner\, elected official\, educator\, nonprofit leader\, or concerned citizen\, the Summer Advocacy Series offers valuable insight into the forces influencing our shared future. \nJoin the conversation. Be part of the change. \nRegister HERE
URL:https://www.modchamber.org/event/summer-advocacy-series-contentment/
LOCATION:Modesto Junior College West Campus – Mary Stuart Rogers Center\, 2201 Blue Gum Avenue\, Modesto\, CA\, 95358\, United States
CATEGORIES:Advocacy Event
ORGANIZER;CN="Felicia Lopez":MAILTO:flopez@modchamber.org
GEO:37.6627211;-121.0354933
X-APPLE-STRUCTURED-LOCATION;VALUE=URI;X-ADDRESS=Modesto Junior College West Campus – Mary Stuart Rogers Center 2201 Blue Gum Avenue Modesto CA 95358 United States;X-APPLE-RADIUS=500;X-TITLE=2201 Blue Gum Avenue:geo:-121.0354933,37.6627211
END:VEVENT
BEGIN:VEVENT
DTSTART;TZID=America/Los_Angeles:20250903T113000
DTEND;TZID=America/Los_Angeles:20250903T130000
DTSTAMP:20260422T154801
CREATED:20250117T164955Z
LAST-MODIFIED:20250523T204045Z
UID:10000933-1756899000-1756904400@www.modchamber.org
SUMMARY:Economic Development Committee Meeting
DESCRIPTION:Economic Development Committee\n1st Wednesday’s of the month(excluding holidays)\nContact sshaw@modchamber.org for details on upcoming meetings
URL:https://www.modchamber.org/event/economic-development-committee-meeting-4/2025-09-03/
CATEGORIES:Advocacy Event
ATTACH;FMTTYPE=image/jpeg:https://www.modchamber.org/wp-content/uploads/2025/01/EDC-Logo_-002.jpg
END:VEVENT
BEGIN:VEVENT
DTSTART;TZID=America/Los_Angeles:20250919T113000
DTEND;TZID=America/Los_Angeles:20250919T133000
DTSTAMP:20260422T154801
CREATED:20250513T182855Z
LAST-MODIFIED:20250916T170932Z
UID:10000998-1758281400-1758288600@www.modchamber.org
SUMMARY:Advocacy Summer Series - Health
DESCRIPTION:Register here
URL:https://www.modchamber.org/event/advocacy-summer-series-health/
LOCATION:Doctors Medical Center – Conference Center\, 1145 McHenry Avenue\, Modesto\, CA\, 95350\, United States
CATEGORIES:Advocacy Event
GEO:37.659869;-120.9943139
X-APPLE-STRUCTURED-LOCATION;VALUE=URI;X-ADDRESS=Doctors Medical Center – Conference Center 1145 McHenry Avenue Modesto CA 95350 United States;X-APPLE-RADIUS=500;X-TITLE=1145 McHenry Avenue:geo:-120.9943139,37.659869
END:VEVENT
BEGIN:VEVENT
DTSTART;TZID=America/Los_Angeles:20251001T113000
DTEND;TZID=America/Los_Angeles:20251001T130000
DTSTAMP:20260422T154801
CREATED:20250925T174529Z
LAST-MODIFIED:20250925T175057Z
UID:10000934-1759318200-1759323600@www.modchamber.org
SUMMARY:Economic Development Committee Meeting
DESCRIPTION:Economic Development Committee\n1st Wednesday’s of the month(excluding holidays)\nContact sshaw@modchamber.org for details on upcoming meetings\n  \nSpeaker: Dave White\, Chief Executive Officer\, Opportunity Stanislaus\n  \nTopic: Economic Development\n  \n  \nClick to Register
URL:https://www.modchamber.org/event/economic-development-committee-meeting-4-3/
CATEGORIES:Advocacy Event
ATTACH;FMTTYPE=image/jpeg:https://www.modchamber.org/wp-content/uploads/2025/01/EDC-Logo_-002.jpg
END:VEVENT
BEGIN:VEVENT
DTSTART;TZID=America/Los_Angeles:20251017T113000
DTEND;TZID=America/Los_Angeles:20251017T130000
DTSTAMP:20260422T154801
CREATED:20250523T204324Z
LAST-MODIFIED:20250523T204324Z
UID:10000946-1760700600-1760706000@www.modchamber.org
SUMMARY:Government Relations Council Meeting
DESCRIPTION:Government Relations Council\nEvery 3rd Friday of the month(Excluding holidays)\nContact sshaw@modchamber.org for details on upcoming meetings
URL:https://www.modchamber.org/event/7561-3/2025-10-17/
CATEGORIES:Advocacy Event
ATTACH;FMTTYPE=image/png:https://www.modchamber.org/wp-content/uploads/2025/01/GRC-LOGO-final.png
END:VEVENT
BEGIN:VEVENT
DTSTART;TZID=America/Los_Angeles:20251105T113000
DTEND;TZID=America/Los_Angeles:20251105T130000
DTSTAMP:20260422T154801
CREATED:20250117T164955Z
LAST-MODIFIED:20250523T204045Z
UID:10000935-1762342200-1762347600@www.modchamber.org
SUMMARY:Economic Development Committee Meeting
DESCRIPTION:Economic Development Committee\n1st Wednesday’s of the month(excluding holidays)\nContact sshaw@modchamber.org for details on upcoming meetings
URL:https://www.modchamber.org/event/economic-development-committee-meeting-4/2025-11-05/
CATEGORIES:Advocacy Event
ATTACH;FMTTYPE=image/jpeg:https://www.modchamber.org/wp-content/uploads/2025/01/EDC-Logo_-002.jpg
END:VEVENT
BEGIN:VEVENT
DTSTART;TZID=America/Los_Angeles:20251121T113000
DTEND;TZID=America/Los_Angeles:20251121T130000
DTSTAMP:20260422T154801
CREATED:20251017T145609Z
LAST-MODIFIED:20251017T145609Z
UID:10000947-1763724600-1763730000@www.modchamber.org
SUMMARY:Government Relations Council Meeting
DESCRIPTION:Government Relations Council\nEvery 3rd Friday of the month(Excluding holidays)\nContact sshaw@modchamber.org for details on upcoming meetings
URL:https://www.modchamber.org/event/7561-3-2/
CATEGORIES:Advocacy Event
ATTACH;FMTTYPE=image/png:https://www.modchamber.org/wp-content/uploads/2025/01/GRC-LOGO-final.png
END:VEVENT
BEGIN:VEVENT
DTSTART;TZID=America/Los_Angeles:20251203T113000
DTEND;TZID=America/Los_Angeles:20251203T130000
DTSTAMP:20260422T154801
CREATED:20250117T164955Z
LAST-MODIFIED:20250523T204045Z
UID:10000936-1764761400-1764766800@www.modchamber.org
SUMMARY:Economic Development Committee Meeting
DESCRIPTION:Economic Development Committee\n1st Wednesday’s of the month(excluding holidays)\nContact sshaw@modchamber.org for details on upcoming meetings
URL:https://www.modchamber.org/event/economic-development-committee-meeting-4/2025-12-03/
CATEGORIES:Advocacy Event
ATTACH;FMTTYPE=image/jpeg:https://www.modchamber.org/wp-content/uploads/2025/01/EDC-Logo_-002.jpg
END:VEVENT
BEGIN:VEVENT
DTSTART;TZID=America/Los_Angeles:20251219T113000
DTEND;TZID=America/Los_Angeles:20251219T130000
DTSTAMP:20260422T154801
CREATED:20250523T204324Z
LAST-MODIFIED:20250523T204324Z
UID:10001003-1766143800-1766149200@www.modchamber.org
SUMMARY:Government Relations Council Meeting
DESCRIPTION:Government Relations Council\nEvery 3rd Friday of the month(Excluding holidays)\nContact sshaw@modchamber.org for details on upcoming meetings
URL:https://www.modchamber.org/event/7561-3/2025-12-19/
CATEGORIES:Advocacy Event
ATTACH;FMTTYPE=image/png:https://www.modchamber.org/wp-content/uploads/2025/01/GRC-LOGO-final.png
END:VEVENT
BEGIN:VEVENT
DTSTART;TZID=America/Los_Angeles:20260116T113000
DTEND;TZID=America/Los_Angeles:20260116T130000
DTSTAMP:20260422T154801
CREATED:20250523T204324Z
LAST-MODIFIED:20250523T204324Z
UID:10001004-1768563000-1768568400@www.modchamber.org
SUMMARY:Government Relations Council Meeting
DESCRIPTION:Government Relations Council\nEvery 3rd Friday of the month(Excluding holidays)\nContact sshaw@modchamber.org for details on upcoming meetings
URL:https://www.modchamber.org/event/7561-3/2026-01-16/
CATEGORIES:Advocacy Event
ATTACH;FMTTYPE=image/png:https://www.modchamber.org/wp-content/uploads/2025/01/GRC-LOGO-final.png
END:VEVENT
BEGIN:VEVENT
DTSTART;TZID=America/Los_Angeles:20260220T113000
DTEND;TZID=America/Los_Angeles:20260220T130000
DTSTAMP:20260422T154801
CREATED:20250523T204324Z
LAST-MODIFIED:20250523T204324Z
UID:10001005-1771587000-1771592400@www.modchamber.org
SUMMARY:Government Relations Council Meeting
DESCRIPTION:Government Relations Council\nEvery 3rd Friday of the month(Excluding holidays)\nContact sshaw@modchamber.org for details on upcoming meetings
URL:https://www.modchamber.org/event/7561-3/2026-02-20/
CATEGORIES:Advocacy Event
ATTACH;FMTTYPE=image/png:https://www.modchamber.org/wp-content/uploads/2025/01/GRC-LOGO-final.png
END:VEVENT
BEGIN:VEVENT
DTSTART;TZID=America/Los_Angeles:20260320T113000
DTEND;TZID=America/Los_Angeles:20260320T130000
DTSTAMP:20260422T154801
CREATED:20260309T203025Z
LAST-MODIFIED:20260309T203026Z
UID:10001006-1774006200-1774011600@www.modchamber.org
SUMMARY:Government Relations Council Meeting
DESCRIPTION:Government Relations Council\nEvery 3rd Friday of the month(Excluding holidays)\nContact sshaw@modchamber.org for details on upcoming meetings
URL:https://www.modchamber.org/event/7561-3-3/
CATEGORIES:Advocacy Event
ATTACH;FMTTYPE=image/png:https://www.modchamber.org/wp-content/uploads/2025/01/GRC-LOGO-final.png
END:VEVENT
BEGIN:VEVENT
DTSTART;TZID=America/Los_Angeles:20260401T113000
DTEND;TZID=America/Los_Angeles:20260401T130000
DTSTAMP:20260422T154801
CREATED:20260309T203633Z
LAST-MODIFIED:20260309T203633Z
UID:10001050-1775043000-1775048400@www.modchamber.org
SUMMARY:Economic Development Committee
DESCRIPTION:Economic Development Committee\n1st Wednesday’s of the month(excluding holidays)\nContact sshaw@modchamber.org for details on upcoming meetings
URL:https://www.modchamber.org/event/economic-development-committee-4/
CATEGORIES:Advocacy Event
ATTACH;FMTTYPE=image/jpeg:https://www.modchamber.org/wp-content/uploads/2025/01/EDC-Logo_-002.jpg
END:VEVENT
BEGIN:VEVENT
DTSTART;TZID=America/Los_Angeles:20260417T113000
DTEND;TZID=America/Los_Angeles:20260417T130000
DTSTAMP:20260422T154801
CREATED:20260422T205220Z
LAST-MODIFIED:20260422T205259Z
UID:10001007-1776425400-1776430800@www.modchamber.org
SUMMARY:Government Relations Council Meeting
DESCRIPTION:
URL:https://www.modchamber.org/event/7561-3-4/
CATEGORIES:Advocacy Event
END:VEVENT
BEGIN:VEVENT
DTSTART;TZID=America/Los_Angeles:20260506T113000
DTEND;TZID=America/Los_Angeles:20260506T130000
DTSTAMP:20260422T154801
CREATED:20260422T204831Z
LAST-MODIFIED:20260422T204831Z
UID:10001060-1778067000-1778072400@www.modchamber.org
SUMMARY:Economic Development Committee
DESCRIPTION:
URL:https://www.modchamber.org/event/economic-development-committee-5/
LOCATION:Modesto Chamber of Commerce\, 1114 J Street\, Modesto\, CA\, 95354\, United States
CATEGORIES:Advocacy Event
GEO:37.641396;-120.9988215
X-APPLE-STRUCTURED-LOCATION;VALUE=URI;X-ADDRESS=Modesto Chamber of Commerce 1114 J Street Modesto CA 95354 United States;X-APPLE-RADIUS=500;X-TITLE=1114 J Street:geo:-120.9988215,37.641396
END:VEVENT
BEGIN:VEVENT
DTSTART;TZID=America/Los_Angeles:20260515T113000
DTEND;TZID=America/Los_Angeles:20260515T130000
DTSTAMP:20260422T154801
CREATED:20250523T204324Z
LAST-MODIFIED:20250523T204324Z
UID:10001008-1778844600-1778850000@www.modchamber.org
SUMMARY:Government Relations Council Meeting
DESCRIPTION:Government Relations Council\nEvery 3rd Friday of the month(Excluding holidays)\nContact sshaw@modchamber.org for details on upcoming meetings
URL:https://www.modchamber.org/event/7561-3/2026-05-15/
CATEGORIES:Advocacy Event
ATTACH;FMTTYPE=image/png:https://www.modchamber.org/wp-content/uploads/2025/01/GRC-LOGO-final.png
END:VEVENT
BEGIN:VEVENT
DTSTART;TZID=America/Los_Angeles:20260619T113000
DTEND;TZID=America/Los_Angeles:20260619T130000
DTSTAMP:20260422T154801
CREATED:20250523T204324Z
LAST-MODIFIED:20250523T204324Z
UID:10001009-1781868600-1781874000@www.modchamber.org
SUMMARY:Government Relations Council Meeting
DESCRIPTION:Government Relations Council\nEvery 3rd Friday of the month(Excluding holidays)\nContact sshaw@modchamber.org for details on upcoming meetings
URL:https://www.modchamber.org/event/7561-3/2026-06-19/
CATEGORIES:Advocacy Event
ATTACH;FMTTYPE=image/png:https://www.modchamber.org/wp-content/uploads/2025/01/GRC-LOGO-final.png
END:VEVENT
BEGIN:VEVENT
DTSTART;TZID=America/Los_Angeles:20260717T113000
DTEND;TZID=America/Los_Angeles:20260717T130000
DTSTAMP:20260422T154801
CREATED:20250523T204324Z
LAST-MODIFIED:20250523T204324Z
UID:10001010-1784287800-1784293200@www.modchamber.org
SUMMARY:Government Relations Council Meeting
DESCRIPTION:Government Relations Council\nEvery 3rd Friday of the month(Excluding holidays)\nContact sshaw@modchamber.org for details on upcoming meetings
URL:https://www.modchamber.org/event/7561-3/2026-07-17/
CATEGORIES:Advocacy Event
ATTACH;FMTTYPE=image/png:https://www.modchamber.org/wp-content/uploads/2025/01/GRC-LOGO-final.png
END:VEVENT
END:VCALENDAR