BEGIN:VCALENDAR
VERSION:2.0
PRODID:-//Modesto Chamber of Commerce - ECPv6.15.20//NONSGML v1.0//EN
CALSCALE:GREGORIAN
METHOD:PUBLISH
X-ORIGINAL-URL:https://www.modchamber.org
X-WR-CALDESC:Events for Modesto Chamber of Commerce
REFRESH-INTERVAL;VALUE=DURATION:PT1H
X-Robots-Tag:noindex
X-PUBLISHED-TTL:PT1H
BEGIN:VTIMEZONE
TZID:America/Los_Angeles
BEGIN:DAYLIGHT
TZOFFSETFROM:-0800
TZOFFSETTO:-0700
TZNAME:PDT
DTSTART:20230312T100000
END:DAYLIGHT
BEGIN:STANDARD
TZOFFSETFROM:-0700
TZOFFSETTO:-0800
TZNAME:PST
DTSTART:20231105T090000
END:STANDARD
BEGIN:DAYLIGHT
TZOFFSETFROM:-0800
TZOFFSETTO:-0700
TZNAME:PDT
DTSTART:20240310T100000
END:DAYLIGHT
BEGIN:STANDARD
TZOFFSETFROM:-0700
TZOFFSETTO:-0800
TZNAME:PST
DTSTART:20241103T090000
END:STANDARD
BEGIN:DAYLIGHT
TZOFFSETFROM:-0800
TZOFFSETTO:-0700
TZNAME:PDT
DTSTART:20250309T100000
END:DAYLIGHT
BEGIN:STANDARD
TZOFFSETFROM:-0700
TZOFFSETTO:-0800
TZNAME:PST
DTSTART:20251102T090000
END:STANDARD
END:VTIMEZONE
BEGIN:VEVENT
DTSTART;TZID=America/Los_Angeles:20241002T113000
DTEND;TZID=America/Los_Angeles:20241002T130000
DTSTAMP:20260422T030346
CREATED:20240927T171742Z
LAST-MODIFIED:20240927T171743Z
UID:10000888-1727868600-1727874000@www.modchamber.org
SUMMARY:Economic Development Committee Meeting
DESCRIPTION:Mission Statement \nThe Modesto Chamber of Commerce is dedicated to serving the greater Modesto Area\, regional businesses and community prosperity through advocacy\, \ncollaboration\, access to leaders\, economic development\, connectivity and business education. \nSpeaker: Toby Wells\, Director\, Engineering Services\, City of Modesto\nTopic: Standiford/Beckwith Interchange & More: Major Public Works Projects\n\nTo register click HERE \nFor questions please go to info@modchamber.org or call 209-575-5757
URL:https://www.modchamber.org/event/economic-development-committee-meeting-3-3/
CATEGORIES:Advocacy Event
ATTACH;FMTTYPE=image/png:https://www.modchamber.org/wp-content/uploads/2021/01/EDC-Banner-1080-x-1080-px.png
ORGANIZER;CN="Stephen Shaw":MAILTO:sshaw@modchamber.org
END:VEVENT
END:VCALENDAR