BEGIN:VCALENDAR
VERSION:2.0
PRODID:-//Modesto Chamber of Commerce - ECPv6.15.20//NONSGML v1.0//EN
CALSCALE:GREGORIAN
METHOD:PUBLISH
X-WR-CALNAME:Modesto Chamber of Commerce
X-ORIGINAL-URL:https://www.modchamber.org
X-WR-CALDESC:Events for Modesto Chamber of Commerce
REFRESH-INTERVAL;VALUE=DURATION:PT1H
X-Robots-Tag:noindex
X-PUBLISHED-TTL:PT1H
BEGIN:VTIMEZONE
TZID:America/Los_Angeles
BEGIN:DAYLIGHT
TZOFFSETFROM:-0800
TZOFFSETTO:-0700
TZNAME:PDT
DTSTART:20230312T100000
END:DAYLIGHT
BEGIN:STANDARD
TZOFFSETFROM:-0700
TZOFFSETTO:-0800
TZNAME:PST
DTSTART:20231105T090000
END:STANDARD
BEGIN:DAYLIGHT
TZOFFSETFROM:-0800
TZOFFSETTO:-0700
TZNAME:PDT
DTSTART:20240310T100000
END:DAYLIGHT
BEGIN:STANDARD
TZOFFSETFROM:-0700
TZOFFSETTO:-0800
TZNAME:PST
DTSTART:20241103T090000
END:STANDARD
BEGIN:DAYLIGHT
TZOFFSETFROM:-0800
TZOFFSETTO:-0700
TZNAME:PDT
DTSTART:20250309T100000
END:DAYLIGHT
BEGIN:STANDARD
TZOFFSETFROM:-0700
TZOFFSETTO:-0800
TZNAME:PST
DTSTART:20251102T090000
END:STANDARD
END:VTIMEZONE
BEGIN:VEVENT
DTSTART;TZID=America/Los_Angeles:20240118T080000
DTEND;TZID=America/Los_Angeles:20240118T170000
DTSTAMP:20260422T181938
CREATED:20231129T235222Z
LAST-MODIFIED:20231129T235340Z
UID:10000843-1705564800-1705597200@www.modchamber.org
SUMMARY:Stanislaus Green Team Meeting
DESCRIPTION:Content is protected.
URL:https://www.modchamber.org/event/stanislaus-green-team-meeting-15/
CATEGORIES:Advocacy Event,Sustainability
END:VEVENT
BEGIN:VEVENT
DTSTART;TZID=America/Los_Angeles:20240118T120000
DTEND;TZID=America/Los_Angeles:20240118T130000
DTSTAMP:20260422T181938
CREATED:20231106T215914Z
LAST-MODIFIED:20231106T215914Z
UID:10000802-1705579200-1705582800@www.modchamber.org
SUMMARY:Stanislaus Green Team Meeting 2024
DESCRIPTION:DIVERT\nSpeaker: Holly Yanai \nAbout DIVERT Inc.\nDivert\, Inc. is an impact technology company on a mission to Protect the Value of Food™. Founded in 2007\, the company creates advanced technologies and sustainable infrastructure to eliminate wasted food\, driving social and environmental impact. Divert provides an end-to-end solution that prevents waste by maximizing the freshness of food\, recovers edible food to serve communities in need\, and converts wasted food into renewable energy. \nPlease register for this meeting \nIn-Person Encouraged\, Zoom link available\nChamber Conference room\n1114 J Street Modesto \nWe meet every Third Thursday of the month\n12:00 PM- 1:00PM \nLunch will be provided for in person attendees \n  \n-Free to attend\n-Sponsorships welcomed \n\n 
URL:https://www.modchamber.org/event/stanislaus-green-team-meeting-2024/
CATEGORIES:Advocacy Event,Sustainability
ORGANIZER;CN="Jolene Camarena":MAILTO:jcamarena@modchamber.org
END:VEVENT
END:VCALENDAR