BEGIN:VCALENDAR
VERSION:2.0
PRODID:-//Modesto Chamber of Commerce - ECPv6.15.20//NONSGML v1.0//EN
CALSCALE:GREGORIAN
METHOD:PUBLISH
X-ORIGINAL-URL:https://www.modchamber.org
X-WR-CALDESC:Events for Modesto Chamber of Commerce
REFRESH-INTERVAL;VALUE=DURATION:PT1H
X-Robots-Tag:noindex
X-PUBLISHED-TTL:PT1H
BEGIN:VTIMEZONE
TZID:America/Los_Angeles
BEGIN:DAYLIGHT
TZOFFSETFROM:-0800
TZOFFSETTO:-0700
TZNAME:PDT
DTSTART:20230312T100000
END:DAYLIGHT
BEGIN:STANDARD
TZOFFSETFROM:-0700
TZOFFSETTO:-0800
TZNAME:PST
DTSTART:20231105T090000
END:STANDARD
BEGIN:DAYLIGHT
TZOFFSETFROM:-0800
TZOFFSETTO:-0700
TZNAME:PDT
DTSTART:20240310T100000
END:DAYLIGHT
BEGIN:STANDARD
TZOFFSETFROM:-0700
TZOFFSETTO:-0800
TZNAME:PST
DTSTART:20241103T090000
END:STANDARD
BEGIN:DAYLIGHT
TZOFFSETFROM:-0800
TZOFFSETTO:-0700
TZNAME:PDT
DTSTART:20250309T100000
END:DAYLIGHT
BEGIN:STANDARD
TZOFFSETFROM:-0700
TZOFFSETTO:-0800
TZNAME:PST
DTSTART:20251102T090000
END:STANDARD
END:VTIMEZONE
BEGIN:VEVENT
DTSTART;TZID=America/Los_Angeles:20240306T113000
DTEND;TZID=America/Los_Angeles:20240306T130000
DTSTAMP:20260422T134410
CREATED:20231129T192221Z
LAST-MODIFIED:20231129T192635Z
UID:10000822-1709724600-1709730000@www.modchamber.org
SUMMARY:Economic Development Committee Meeting
DESCRIPTION:Mission Statement \nThe Modesto Chamber of Commerce is dedicated to serving the greater Modesto Area\, regional businesses and community prosperity through advocacy\, \ncollaboration\, access to leaders\, economic development\, connectivity and business education. \nSpeaker:\nTopic: \n\nTo register click HERE \nFor questions please go to info@modchamber.org or call 209-575-5757
URL:https://www.modchamber.org/event/economic-development-committee-meeting/2024-03-06/
CATEGORIES:Advocacy Event
ATTACH;FMTTYPE=image/png:https://www.modchamber.org/wp-content/uploads/2021/01/EDC-Banner-1080-x-1080-px.png
END:VEVENT
BEGIN:VEVENT
DTSTART;TZID=America/Los_Angeles:20240315T113000
DTEND;TZID=America/Los_Angeles:20240315T130000
DTSTAMP:20260422T134410
CREATED:20231129T190412Z
LAST-MODIFIED:20231129T192737Z
UID:10000833-1710502200-1710507600@www.modchamber.org
SUMMARY:Government Relations Council Meeting
DESCRIPTION:Mission Statement\nGRC meetings are held on the third Friday of the month at 11:30 AM.\nThe Governmental Relations Council (GRC) provides the nexus between members of the Chamber and elected and government officials who\, through either legislation or regulation\, may impact the bottom line of our members’ businesses.\n\n\n\n\nPresentation Speaker:\nTBA\n\n\nTopic:\nTBA\n\nTo register click HERE.\nFor questions please contact info@modchamber.org or call 209-577-5757.
URL:https://www.modchamber.org/event/6645/2024-03-15/
CATEGORIES:Advocacy Event
ATTACH;FMTTYPE=image/png:https://www.modchamber.org/wp-content/uploads/2023/02/Untitled-design-60.png
END:VEVENT
BEGIN:VEVENT
DTSTART;TZID=America/Los_Angeles:20240321T120000
DTEND;TZID=America/Los_Angeles:20240321T130000
DTSTAMP:20260422T134410
CREATED:20231107T203234Z
LAST-MODIFIED:20231107T203234Z
UID:10000805-1711022400-1711026000@www.modchamber.org
SUMMARY:Stanislaus Green Team Meeting
DESCRIPTION:StanisCruise\nSpeaker: Jean Floretta\, Director of Mobility Programs Stanislaus Council of Governments \nAbout StanisCruise: \nWhether you want to join a carpool or vanpool—or explore clean travel options like transit\, walking or biking—we’ve got you covered. \nWe offer tips\, incentives and even emergency rides home. So wherever you’re going\, we can help you get there—all while saving you money and improving air quality. What could be better? \n  \n\nLocation: \nIn-Person Encouraged\, Zoom link available\nChamber Conference room\n1114 J Street Modesto\n\n\nDate/Time Information: March 21\, 2024 12:00PM \n\nEvery Third Thursday of the month\nLunch will be provided for in person attendees.
URL:https://www.modchamber.org/event/stanislaus-green-team-meeting-14/
LOCATION:Modesto Chamber of Commerce\, 1114 J Street\, Modesto\, CA\, 95354\, United States
CATEGORIES:Advocacy Event,Sustainability
ATTACH;FMTTYPE=image/png:https://www.modchamber.org/wp-content/uploads/2023/11/March-21-2024-SGT-image.png
GEO:37.641396;-120.9988215
X-APPLE-STRUCTURED-LOCATION;VALUE=URI;X-ADDRESS=Modesto Chamber of Commerce 1114 J Street Modesto CA 95354 United States;X-APPLE-RADIUS=500;X-TITLE=1114 J Street:geo:-120.9988215,37.641396
END:VEVENT
END:VCALENDAR